BEGIN:VCALENDAR
VERSION:2.0
PRODID:-//Buffalo Naval Park - ECPv6.15.17.1//NONSGML v1.0//EN
CALSCALE:GREGORIAN
METHOD:PUBLISH
X-WR-CALNAME:Buffalo Naval Park
X-ORIGINAL-URL:https://buffalonavalpark.org
X-WR-CALDESC:Events for Buffalo Naval Park
REFRESH-INTERVAL;VALUE=DURATION:PT1H
X-Robots-Tag:noindex
X-PUBLISHED-TTL:PT1H
BEGIN:VTIMEZONE
TZID:America/Halifax
BEGIN:DAYLIGHT
TZOFFSETFROM:-0400
TZOFFSETTO:-0300
TZNAME:ADT
DTSTART:20250309T060000
END:DAYLIGHT
BEGIN:STANDARD
TZOFFSETFROM:-0300
TZOFFSETTO:-0400
TZNAME:AST
DTSTART:20251102T050000
END:STANDARD
BEGIN:DAYLIGHT
TZOFFSETFROM:-0400
TZOFFSETTO:-0300
TZNAME:ADT
DTSTART:20260308T060000
END:DAYLIGHT
BEGIN:STANDARD
TZOFFSETFROM:-0300
TZOFFSETTO:-0400
TZNAME:AST
DTSTART:20261101T050000
END:STANDARD
BEGIN:DAYLIGHT
TZOFFSETFROM:-0400
TZOFFSETTO:-0300
TZNAME:ADT
DTSTART:20270314T060000
END:DAYLIGHT
BEGIN:STANDARD
TZOFFSETFROM:-0300
TZOFFSETTO:-0400
TZNAME:AST
DTSTART:20271107T050000
END:STANDARD
END:VTIMEZONE
BEGIN:VEVENT
DTSTART;TZID=America/Halifax:20260310T170000
DTEND;TZID=America/Halifax:20260310T200000
DTSTAMP:20260420T062135
CREATED:20260123T181432Z
LAST-MODIFIED:20260123T181432Z
UID:19042-1773162000-1773172800@buffalonavalpark.org
SUMMARY:USS The Sullivans St. Patrick's Day Celebration 2026
DESCRIPTION:Celebrate an early St. Patrick’s Day at the Buffalo Naval Park and support one of Buffalo’s most iconic ships. \nStep aboard USS The Sullivans for a spirited evening that blends great food\, good company\, and a one of a kind setting. Since World War II\, the ship has proudly displayed shamrocks in honor of the Irish heritage of the five Sullivan brothers. For one night\, that tradition takes center stage as the ship is dressed in green for a memorable waterfront celebration. \nYour evening includes a classic corned beef and cabbage dinner\, beer\, wine\, and soft drinks\, all served in a relaxed\, social atmosphere. Before and after dinner\, guests are invited to explore the ship at their own pace\, join guided tours\, and try their luck in raffles throughout the evening. \nAs you move through the ship\, our staff and volunteer docents will share stories about the Sullivan brothers\, the ship’s remarkable service history\, and the ongoing preservation work underway to ensure USS The Sullivans remains part of Buffalo’s waterfront for generations to come. \n5:00 PM – 7:00 PM: Dinner\, reception\, and open house style tours of USS The Sullivans \n7:15 PM: Short program and preservation update \nTours will run continuously between 5:00 and 7:00 PM\, allowing guests to dine\, mingle\, and explore at their own pace. Some areas of the ship remain closed due to active preservation and maintenance work\, but staff and docents will be stationed throughout the ship to answer questions and provide behind the scenes insight into the restoration effort. \nUSS The Sullivans DD-537 served in World War II\, the Korean War\, and the Cold War and is a National Historic Landmark. Named for the five Sullivan brothers who were lost together aboard USS Juneau in November 1942\, the ship stands as both a symbol of sacrifice and a living piece of American history. \nThis is not just a dinner. It’s a night out\, a tradition\, and a chance to support the preservation of a ship that means so much to Buffalo. Come hungry\, wear a little green\, and celebrate St. Patrick’s Day aboard USS The Sullivans.
URL:https://buffalonavalpark.org/event/uss-the-sullivans-st-patricks-day-2026/
LOCATION:Buffalo Naval Park\, United States
END:VEVENT
BEGIN:VEVENT
DTSTART;TZID=America/Halifax:20260314T093000
DTEND;TZID=America/Halifax:20260314T170000
DTSTAMP:20260420T062135
CREATED:20260205T205125Z
LAST-MODIFIED:20260313T191054Z
UID:19064-1773480600-1773507600@buffalonavalpark.org
SUMMARY:POSTPONED: Opening Day
DESCRIPTION:UPDATE: Due to the forecasted weather conditions\, the Buffalo Naval Park’s Opening Day has been POSTPONED. Please stay tuned for additional details. \nJoin the Buffalo Naval Park on our opening day! \nSaturday\, March 14Ribbon cutting ceremony at 9:30AM near the entrance of USS The Sullivans. \nThe Buffalo Naval Park will be open Wednesday through Sunday from 10AM to 5PM\, with the last ticket sold at 4PM. The Buffalo Naval Park will be open 7 days a week beginning on May 1.
URL:https://buffalonavalpark.org/event/opening-day-2026/
LOCATION:Buffalo Naval Park\, United States
END:VEVENT
BEGIN:VEVENT
DTSTART;TZID=America/Halifax:20260322T133000
DTEND;TZID=America/Halifax:20260322T153000
DTSTAMP:20260420T062135
CREATED:20260316T182111Z
LAST-MODIFIED:20260316T182111Z
UID:19153-1774186200-1774193400@buffalonavalpark.org
SUMMARY:Behind the Scenes Curator Tour
DESCRIPTION:Join the Buffalo Naval and Military Park’s Curator and Director of Museum Collections\, Shane Stephenson\, for a special behind the scenes tour of USS Little Rock\, the last remaining Cleveland-class cruiser in the world. \nThis tour will give an in-depth look at our ships as artifacts and highlight some of the challenges in preserving them for future generations. You’ll visit spaces aboard USS Little Rock and USS The Sullivans that are not available on any other tour. \nEach tour will last approximately 2 hours and will be limited to 11 people. When touring most areas of the ship\, visitors should expect to traverse narrow passageways\, be able to step over significantly raised thresholds\, and climb up and down very steep ladders. We recommend that you wear comfortable clothes\, closed-toe shoes\, and bring a flashlight. \nDue to the length of the tour and the spaces that will be visited\, the Curator tour is for ages 11 and older. \nCurator Tours will take place at 1:30 PM. \nClick here to purchase your tickets!
URL:https://buffalonavalpark.org/event/curator-tour-3-22-26/
LOCATION:Buffalo Naval Park\, United States
END:VEVENT
BEGIN:VEVENT
DTSTART;TZID=America/Halifax:20260329T110000
DTEND;TZID=America/Halifax:20260329T120000
DTSTAMP:20260420T062135
CREATED:20260305T165019Z
LAST-MODIFIED:20260305T165019Z
UID:19137-1774782000-1774785600@buffalonavalpark.org
SUMMARY:National Vietnam War Veterans Day Ceremony
DESCRIPTION:On March 29\, the Buffalo Naval Park will host a ceremony at 11:00 AM to honor National Vietnam War Veterans Day. \nThis event is free and open to the public.
URL:https://buffalonavalpark.org/event/national-vietnam-war-veterans-day-2026/
LOCATION:Buffalo Naval Park\, United States
END:VEVENT
END:VCALENDAR