BEGIN:VCALENDAR
VERSION:2.0
PRODID:-//Buffalo Naval Park - ECPv6.15.17.1//NONSGML v1.0//EN
CALSCALE:GREGORIAN
METHOD:PUBLISH
X-WR-CALNAME:Buffalo Naval Park
X-ORIGINAL-URL:https://buffalonavalpark.org
X-WR-CALDESC:Events for Buffalo Naval Park
REFRESH-INTERVAL;VALUE=DURATION:PT1H
X-Robots-Tag:noindex
X-PUBLISHED-TTL:PT1H
BEGIN:VTIMEZONE
TZID:America/Halifax
BEGIN:DAYLIGHT
TZOFFSETFROM:-0400
TZOFFSETTO:-0300
TZNAME:ADT
DTSTART:20240310T060000
END:DAYLIGHT
BEGIN:STANDARD
TZOFFSETFROM:-0300
TZOFFSETTO:-0400
TZNAME:AST
DTSTART:20241103T050000
END:STANDARD
BEGIN:DAYLIGHT
TZOFFSETFROM:-0400
TZOFFSETTO:-0300
TZNAME:ADT
DTSTART:20250309T060000
END:DAYLIGHT
BEGIN:STANDARD
TZOFFSETFROM:-0300
TZOFFSETTO:-0400
TZNAME:AST
DTSTART:20251102T050000
END:STANDARD
BEGIN:DAYLIGHT
TZOFFSETFROM:-0400
TZOFFSETTO:-0300
TZNAME:ADT
DTSTART:20260308T060000
END:DAYLIGHT
BEGIN:STANDARD
TZOFFSETFROM:-0300
TZOFFSETTO:-0400
TZNAME:AST
DTSTART:20261101T050000
END:STANDARD
END:VTIMEZONE
BEGIN:VEVENT
DTSTART;TZID=America/Halifax:20250706T130000
DTEND;TZID=America/Halifax:20250706T150000
DTSTAMP:20260420T182953
CREATED:20250326T133935Z
LAST-MODIFIED:20250326T133935Z
UID:17863-1751806800-1751814000@buffalonavalpark.org
SUMMARY:Behind the Scenes Curator Tour
DESCRIPTION:Join the Buffalo Naval and Military Park’s Curator and Director of Museum Collections\, Shane Stephenson\, for a special behind the scenes tour of USS Little Rock\, the last remaining Cleveland-class cruiser in the world. \nThis tour will give an in-depth look at our ships as artifacts and highlight some of the challenges in preserving them for future generations. You’ll visit spaces aboard USS Little Rock and USS The Sullivans that are not available on any other tour. \nEach tour will last approximately 2 hours and will be limited to 11 people. When touring most areas of the ship\, visitors should expect to traverse narrow passageways\, be able to step over significantly raised thresholds\, and climb up and down very steep ladders. We recommend that you wear comfortable clothes\, closed-toe shoes\, and bring a flashlight. \nDue to the length of the tour and the spaces that will be visited\, the Curator tour is for ages 11 and older. \nCurator Tours will take place at 1:00 PM. \nClick here to purchase your tickets!
URL:https://buffalonavalpark.org/event/curator-tour-7-6-25/
LOCATION:Buffalo Naval Park\, United States
END:VEVENT
BEGIN:VEVENT
DTSTART;TZID=America/Halifax:20250708T180000
DTEND;TZID=America/Halifax:20250708T190000
DTSTAMP:20260420T182953
CREATED:20250623T145308Z
LAST-MODIFIED:20250623T145356Z
UID:18237-1751997600-1752001200@buffalonavalpark.org
SUMMARY:NEW DATE: EC200 Speaker Series: The Erie Canal's Indigenous Impact Panel Discussion
DESCRIPTION:As communities celebrate the Erie Canal’s Bicentennial\, this panel will explore its lesser-known legacy – the profound impact on Indigenous peoples and the environment. While the canal represents innovation and economic growth\, its construction and expansion came at a significant cost. The discussion will focus on the urgent need to amplify the suppressed stories of those displaced by the canal’s creation. \nThis event is presented by the Buffalo Maritime Center and will take place outside the Hangar Building near the Commercial Slip. \nThe Erie Canal Harbor Development Corporation (ECHDC) is presenting the 2025 Erie Canal Bicentennial Commemoration at Canalside in Buffalo\, NY from Memorial Day through September. The EC200 Speaker Series will take place in the Buffalo Naval Park’s Hangar Building on the 2nd and 4th Thursday of the month from 6:00 PM – 7:00 PM. \nSpeakers will include subject matter experts regarding Buffalo’s Erie Canal heritage and those who were key in helping develop the Waterway of Change: Complex Legacies of the Erie Canal exhibit in the Longshed Building. \n                   
URL:https://buffalonavalpark.org/event/ec200-7-8-25/
LOCATION:Buffalo Naval Park: Hangar Building\, 1 Naval Park Cove\, Buffalo\, NY\, 14202\, United States
END:VEVENT
BEGIN:VEVENT
DTSTART;TZID=America/Halifax:20250710T180000
DTEND;TZID=America/Halifax:20250710T190000
DTSTAMP:20260420T182953
CREATED:20250515T203157Z
LAST-MODIFIED:20250623T152635Z
UID:18115-1752170400-1752174000@buffalonavalpark.org
SUMMARY:EC200 Speaker Series: Mike Vogel
DESCRIPTION:Learn about the history of Buffalo’s Canal District\, including Dante Place and Central Wharf\, with author and historian Mike Vogel. He co-authored the book\, “America’s Crossroads: Buffalo’s Canal Street/Dante Place – The Making of a City.” \nThe Erie Canal Harbor Development Corporation (ECHDC) is presenting the 2025 Erie Canal Bicentennial Commemoration at Canalside in Buffalo\, NY from Memorial Day through September. The EC200 Speaker Series will take place in the Buffalo Naval Park’s Hangar Building on the 2nd and 4th Thursday of the month from 6:00 PM – 7:00 PM. This series is co-sponsored by the Buffalo and Erie County Naval & Military Park and The Buffalo History Museum. \nSpeakers will include subject matter experts regarding Buffalo’s Erie Canal heritage and those who were key in helping develop the Waterway of Change: Complex Legacies of the Erie Canal exhibit in the Longshed Building.
URL:https://buffalonavalpark.org/event/ec200-7-10-25/
LOCATION:Buffalo Naval Park: Hangar Building\, 1 Naval Park Cove\, Buffalo\, NY\, 14202\, United States
END:VEVENT
BEGIN:VEVENT
DTSTART;TZID=America/Halifax:20250711T100000
DTEND;TZID=America/Halifax:20250711T170000
DTSTAMP:20260420T182953
CREATED:20250508T150625Z
LAST-MODIFIED:20250508T174323Z
UID:18094-1752228000-1752253200@buffalonavalpark.org
SUMMARY:Mess Call 2025
DESCRIPTION:July 11-12 is Mess Call at the Buffalo Naval Park! In partnership with the Military History Preservation Group\, reenactors from across the United States will be gathering to bring the USS The Sullivans and USS Little Rock to life. The ship’s company will conduct general quarters and gunnery drills on USS The Sullivans. Period-correct food will be prepared from the U.S. Navy cookbook in the galley of USS Little Rock. This is an event history buffs and food fanatics alike will not want to miss!
URL:https://buffalonavalpark.org/event/mess-call-2025/
LOCATION:Buffalo Naval Park\, United States
END:VEVENT
BEGIN:VEVENT
DTSTART;TZID=America/Halifax:20250712T100000
DTEND;TZID=America/Halifax:20250712T170000
DTSTAMP:20260420T182953
CREATED:20250508T174420Z
LAST-MODIFIED:20250508T174420Z
UID:18100-1752314400-1752339600@buffalonavalpark.org
SUMMARY:Mess Call 2025
DESCRIPTION:July 11-12 is Mess Call at the Buffalo Naval Park! In partnership with the Military History Preservation Group\, reenactors from across the United States will be gathering to bring the USS The Sullivans and USS Little Rock to life. The ship’s company will conduct general quarters and gunnery drills on USS The Sullivans. Period-correct food will be prepared from the U.S. Navy cookbook in the galley of USS Little Rock. This is an event history buffs and food fanatics alike will not want to miss!
URL:https://buffalonavalpark.org/event/mess-call-2025-2/
LOCATION:Buffalo Naval Park\, United States
END:VEVENT
BEGIN:VEVENT
DTSTART;TZID=America/Halifax:20250713T130000
DTEND;TZID=America/Halifax:20250713T150000
DTSTAMP:20260420T182953
CREATED:20250326T134043Z
LAST-MODIFIED:20250326T134043Z
UID:17867-1752411600-1752418800@buffalonavalpark.org
SUMMARY:Behind the Scenes Curator Tour
DESCRIPTION:Join the Buffalo Naval and Military Park’s Curator and Director of Museum Collections\, Shane Stephenson\, for a special behind the scenes tour of USS Little Rock\, the last remaining Cleveland-class cruiser in the world. \nThis tour will give an in-depth look at our ships as artifacts and highlight some of the challenges in preserving them for future generations. You’ll visit spaces aboard USS Little Rock and USS The Sullivans that are not available on any other tour. \nEach tour will last approximately 2 hours and will be limited to 11 people. When touring most areas of the ship\, visitors should expect to traverse narrow passageways\, be able to step over significantly raised thresholds\, and climb up and down very steep ladders. We recommend that you wear comfortable clothes\, closed-toe shoes\, and bring a flashlight. \nDue to the length of the tour and the spaces that will be visited\, the Curator tour is for ages 11 and older. \nCurator Tours will take place at 1:00 PM. \nClick here to purchase your tickets!
URL:https://buffalonavalpark.org/event/curator-tour-7-13-25/
LOCATION:Buffalo Naval Park\, United States
END:VEVENT
BEGIN:VEVENT
DTSTART;TZID=America/Halifax:20250714T130000
DTEND;TZID=America/Halifax:20250714T150000
DTSTAMP:20260420T182953
CREATED:20250326T134211Z
LAST-MODIFIED:20250326T134211Z
UID:17871-1752498000-1752505200@buffalonavalpark.org
SUMMARY:Behind the Scenes Curator Tour
DESCRIPTION:Join the Buffalo Naval and Military Park’s Curator and Director of Museum Collections\, Shane Stephenson\, for a special behind the scenes tour of USS Little Rock\, the last remaining Cleveland-class cruiser in the world. \nThis tour will give an in-depth look at our ships as artifacts and highlight some of the challenges in preserving them for future generations. You’ll visit spaces aboard USS Little Rock and USS The Sullivans that are not available on any other tour. \nEach tour will last approximately 2 hours and will be limited to 11 people. When touring most areas of the ship\, visitors should expect to traverse narrow passageways\, be able to step over significantly raised thresholds\, and climb up and down very steep ladders. We recommend that you wear comfortable clothes\, closed-toe shoes\, and bring a flashlight. \nDue to the length of the tour and the spaces that will be visited\, the Curator tour is for ages 11 and older. \nCurator Tours will take place at 1:00 PM. \nClick here to purchase your tickets!
URL:https://buffalonavalpark.org/event/curator-tour-7-14-25/
LOCATION:Buffalo Naval Park\, United States
END:VEVENT
BEGIN:VEVENT
DTSTART;TZID=America/Halifax:20250715T191600
DTEND;TZID=America/Halifax:20250716T235900
DTSTAMP:20260420T182953
CREATED:20250710T145648Z
LAST-MODIFIED:20250710T145648Z
UID:18259-1752606960-1752710340@buffalonavalpark.org
SUMMARY:Give 716
DESCRIPTION:Give 716 is coming up on July 15-16! Starting at 7:16 PM on Tuesday\, July 15\, the Buffalo Bills and Buffalo Sabres Foundations will be providing matching grants and funds over the course of   hours to local charities and nonprofit organizations who receive donations at www.give716.org. \nThis year\, we are undertaking a major project to preserve USS Little Rock by painting the hull of the ship. This is a $15\,000+ project that will require the purchase of a new paint barge and scaffolding\, and at least 218 gallons of paint. We will be using a special marine-grade U.S. Navy-approved paint to cover 54\,400 square feet of the ship’s hull. The paint is the only barrier between weather and steel\, and is an important part of protecting the hull from the ravages of rust and corrosion; and contributes to the long-term sustainability of the ship. \nIn honor of the 80th Anniversary of USS Little Rock\, we are asking for your help to contribute towards this project. Your $50 donation will buy 1 gallon of paint which will cover 250 square feet of USS Little Rock’s hull. \n 
URL:https://buffalonavalpark.org/event/give-716-2025/
LOCATION:NY
END:VEVENT
BEGIN:VEVENT
DTSTART;TZID=America/Halifax:20250724T130000
DTEND;TZID=America/Halifax:20250724T150000
DTSTAMP:20260420T182953
CREATED:20250326T134642Z
LAST-MODIFIED:20250326T134642Z
UID:17875-1753362000-1753369200@buffalonavalpark.org
SUMMARY:Behind the Scenes Curator Tour
DESCRIPTION:Join the Buffalo Naval and Military Park’s Curator and Director of Museum Collections\, Shane Stephenson\, for a special behind the scenes tour of USS Little Rock\, the last remaining Cleveland-class cruiser in the world. \nThis tour will give an in-depth look at our ships as artifacts and highlight some of the challenges in preserving them for future generations. You’ll visit spaces aboard USS Little Rock and USS The Sullivans that are not available on any other tour. \nEach tour will last approximately 2 hours and will be limited to 11 people. When touring most areas of the ship\, visitors should expect to traverse narrow passageways\, be able to step over significantly raised thresholds\, and climb up and down very steep ladders. We recommend that you wear comfortable clothes\, closed-toe shoes\, and bring a flashlight. \nDue to the length of the tour and the spaces that will be visited\, the Curator tour is for ages 11 and older. \nCurator Tours will take place at 1:00 PM. \nClick here to purchase your tickets!
URL:https://buffalonavalpark.org/event/curator-tour-7-24-25/
LOCATION:Buffalo Naval Park\, United States
END:VEVENT
BEGIN:VEVENT
DTSTART;TZID=America/Halifax:20250724T180000
DTEND;TZID=America/Halifax:20250724T190000
DTSTAMP:20260420T182953
CREATED:20250515T203348Z
LAST-MODIFIED:20250623T153930Z
UID:18119-1753380000-1753383600@buffalonavalpark.org
SUMMARY:EC200 Speaker Series: John Montague
DESCRIPTION:John Montague\, board member and founder of the Buffalo Maritime Center\, will discuss the history of boats and boating on the Erie Canal. \nThe Erie Canal Harbor Development Corporation (ECHDC) is presenting the 2025 Erie Canal Bicentennial Commemoration at Canalside in Buffalo\, NY from Memorial Day through September. The EC200 Speaker Series will take place in the Buffalo Naval Park’s Hangar Building on the 2nd and 4th Thursday of the month from 6:00 PM – 7:00 PM. This series is co-sponsored by the Buffalo and Erie County Naval & Military Park and The Buffalo History Museum. \nSpeakers will include subject matter experts regarding Buffalo’s Erie Canal heritage and those who were key in helping develop the Waterway of Change: Complex Legacies of the Erie Canal exhibit in the Longshed Building.
URL:https://buffalonavalpark.org/event/ec200-7-24-25/
LOCATION:Buffalo Naval Park: Hangar Building\, 1 Naval Park Cove\, Buffalo\, NY\, 14202\, United States
END:VEVENT
BEGIN:VEVENT
DTSTART;TZID=America/Halifax:20250728T130000
DTEND;TZID=America/Halifax:20250728T150000
DTSTAMP:20260420T182953
CREATED:20250326T134819Z
LAST-MODIFIED:20250326T134819Z
UID:17879-1753707600-1753714800@buffalonavalpark.org
SUMMARY:Behind the Scenes Curator Tour
DESCRIPTION:Join the Buffalo Naval and Military Park’s Curator and Director of Museum Collections\, Shane Stephenson\, for a special behind the scenes tour of USS Little Rock\, the last remaining Cleveland-class cruiser in the world. \nThis tour will give an in-depth look at our ships as artifacts and highlight some of the challenges in preserving them for future generations. You’ll visit spaces aboard USS Little Rock and USS The Sullivans that are not available on any other tour. \nEach tour will last approximately 2 hours and will be limited to 11 people. When touring most areas of the ship\, visitors should expect to traverse narrow passageways\, be able to step over significantly raised thresholds\, and climb up and down very steep ladders. We recommend that you wear comfortable clothes\, closed-toe shoes\, and bring a flashlight. \nDue to the length of the tour and the spaces that will be visited\, the Curator tour is for ages 11 and older. \nCurator Tours will take place at 1:00 PM. \nClick here to purchase your tickets!
URL:https://buffalonavalpark.org/event/curator-tour-7-28-25/
LOCATION:Buffalo Naval Park\, United States
END:VEVENT
END:VCALENDAR