BEGIN:VCALENDAR
VERSION:2.0
PRODID:-//Buffalo Naval Park - ECPv6.15.17.1//NONSGML v1.0//EN
CALSCALE:GREGORIAN
METHOD:PUBLISH
X-WR-CALNAME:Buffalo Naval Park
X-ORIGINAL-URL:https://buffalonavalpark.org
X-WR-CALDESC:Events for Buffalo Naval Park
REFRESH-INTERVAL;VALUE=DURATION:PT1H
X-Robots-Tag:noindex
X-PUBLISHED-TTL:PT1H
BEGIN:VTIMEZONE
TZID:America/Halifax
BEGIN:DAYLIGHT
TZOFFSETFROM:-0400
TZOFFSETTO:-0300
TZNAME:ADT
DTSTART:20240310T060000
END:DAYLIGHT
BEGIN:STANDARD
TZOFFSETFROM:-0300
TZOFFSETTO:-0400
TZNAME:AST
DTSTART:20241103T050000
END:STANDARD
BEGIN:DAYLIGHT
TZOFFSETFROM:-0400
TZOFFSETTO:-0300
TZNAME:ADT
DTSTART:20250309T060000
END:DAYLIGHT
BEGIN:STANDARD
TZOFFSETFROM:-0300
TZOFFSETTO:-0400
TZNAME:AST
DTSTART:20251102T050000
END:STANDARD
BEGIN:DAYLIGHT
TZOFFSETFROM:-0400
TZOFFSETTO:-0300
TZNAME:ADT
DTSTART:20260308T060000
END:DAYLIGHT
BEGIN:STANDARD
TZOFFSETFROM:-0300
TZOFFSETTO:-0400
TZNAME:AST
DTSTART:20261101T050000
END:STANDARD
END:VTIMEZONE
BEGIN:VEVENT
DTSTART;TZID=America/Halifax:20250405T160000
DTEND;TZID=America/Halifax:20250405T160000
DTSTAMP:20260420T233359
CREATED:20250113T192022Z
LAST-MODIFIED:20250122T214523Z
UID:17594-1743868800-1743868800@buffalonavalpark.org
SUMMARY:Overnight Youth Encampment
DESCRIPTION:Sat\, April 5 @ 4:00 PM – Sun\, Apr 6 @ 10:00 AM \nSpend the night aboard USS Little Rock! Our overnight youth encampment is a unique adventure for scouts\, youth groups\, friends\, and families. \nDuring your overnight encampment\, you will: \n• Sleep in berthing compartments where the real Little Rock crew lived; \n• Enjoy dinner and breakfast in the crew’s Mess Deck; \n• Tour the USS Little Rock\, USS The Sullivans\, and USS Croaker; \n• Participate in educational programs and activities to learn about life onboard ship (educational programs may vary). \nVisit buffalonavalpark.org/overnight for additional information.
URL:https://buffalonavalpark.org/event/overnight-youth-encampment-4-5-2025/
LOCATION:Buffalo Naval Park\, United States
END:VEVENT
BEGIN:VEVENT
DTSTART;TZID=America/Halifax:20250412T160000
DTEND;TZID=America/Halifax:20250412T160000
DTSTAMP:20260420T233359
CREATED:20250113T201640Z
LAST-MODIFIED:20250122T215638Z
UID:17598-1744473600-1744473600@buffalonavalpark.org
SUMMARY:Overnight Youth Encampment
DESCRIPTION:Sat\, April 12 @ 4:00 PM – Sun\, April 13 @ 10:00 AM \nSpend the night aboard USS Little Rock! Our overnight youth encampment is a unique adventure for scouts\, youth groups\, friends\, and families. \nDuring your overnight encampment\, you will: \n• Sleep in berthing compartments where the real Little Rock crew lived; \n• Enjoy dinner and breakfast in the crew’s Mess Deck; \n• Tour the USS Little Rock\, USS The Sullivans\, and USS Croaker; \n• Participate in educational programs and activities to learn about life onboard ship (educational programs may vary). \nVisit buffalonavalpark.org/overnight for additional information.
URL:https://buffalonavalpark.org/event/overnight-youth-encampment-4-12-2025/
LOCATION:Buffalo Naval Park\, United States
END:VEVENT
BEGIN:VEVENT
DTSTART;TZID=America/Halifax:20250413T120000
DTEND;TZID=America/Halifax:20250413T130000
DTSTAMP:20260420T233359
CREATED:20250311T190850Z
LAST-MODIFIED:20250311T190850Z
UID:17789-1744545600-1744549200@buffalonavalpark.org
SUMMARY:National Borinqueneers Day Commemoration
DESCRIPTION:On April 13\, the Buffalo Naval Park will host a ceremony near the WNY Hispanic American Veterans Memorial at 12:00 PM to honor National Borinqueneers Day. The designation of April 13 as National Borinqueneers Day recognizes the bravery\, service\, and sacrifice of the 65th Infantry Regiment\, a U.S. Army unit that consisted mostly of soldiers from Puerto Rico. They fought in World War I\, World War II\, and Korea. \nThis outdoor event is free and open to the public.
URL:https://buffalonavalpark.org/event/national-borinqueneers-day-2025/
LOCATION:Buffalo Naval Park's Monuments Garden\, 1 Naval Park Cove\, Buffalo\, NY\, 14202\, United States
END:VEVENT
BEGIN:VEVENT
DTSTART;TZID=America/Halifax:20250413T130000
DTEND;TZID=America/Halifax:20250413T150000
DTSTAMP:20260420T233359
CREATED:20250326T132313Z
LAST-MODIFIED:20250326T132415Z
UID:17829-1744549200-1744556400@buffalonavalpark.org
SUMMARY:Behind the Scenes Curator Tour
DESCRIPTION:Join the Buffalo Naval and Military Park’s Curator and Director of Museum Collections\, Shane Stephenson\, for a special behind the scenes tour of USS Little Rock\, the last remaining Cleveland-class cruiser in the world. \nThis tour will give an in-depth look at our ships as artifacts and highlight some of the challenges in preserving them for future generations. You’ll visit spaces aboard USS Little Rock and USS The Sullivans that are not available on any other tour. \nEach tour will last approximately 2 hours and will be limited to 11 people. When touring most areas of the ship\, visitors should expect to traverse narrow passageways\, be able to step over significantly raised thresholds\, and climb up and down very steep ladders. We recommend that you wear comfortable clothes\, closed-toe shoes\, and bring a flashlight. \nDue to the length of the tour and the spaces that will be visited\, the Curator tour is for ages 11 and older. \nCurator Tours will take place at 1:00 PM. \nClick here to purchase your tickets!
URL:https://buffalonavalpark.org/event/curator-tour-4-13-25/
LOCATION:Buffalo Naval Park\, United States
END:VEVENT
BEGIN:VEVENT
DTSTART;TZID=America/Halifax:20250426T160000
DTEND;TZID=America/Halifax:20250426T160000
DTSTAMP:20260420T233359
CREATED:20250113T201936Z
LAST-MODIFIED:20250122T214514Z
UID:17602-1745683200-1745683200@buffalonavalpark.org
SUMMARY:Overnight Youth Encampment
DESCRIPTION:Sat. April 26 @ 4:00 PM – Sun. April 27 @ 10:00 AM \nSpend the night aboard USS Little Rock! Our overnight youth encampment is a unique adventure for scouts\, youth groups\, friends\, and families. \nDuring your overnight encampment\, you will: \n• Sleep in berthing compartments where the real Little Rock crew lived; \n• Enjoy dinner and breakfast in the crew’s Mess Deck; \n• Tour the USS Little Rock\, USS The Sullivans\, and USS Croaker; \n• Participate in educational programs and activities to learn about life onboard ship (educational programs may vary). \nVisit buffalonavalpark.org/overnight for additional information.
URL:https://buffalonavalpark.org/event/overnight-youth-encampment-4-26-2025/
LOCATION:Buffalo Naval Park\, United States
END:VEVENT
END:VCALENDAR