BEGIN:VCALENDAR
VERSION:2.0
PRODID:-//Buffalo Naval Park - ECPv6.15.17.1//NONSGML v1.0//EN
CALSCALE:GREGORIAN
METHOD:PUBLISH
X-ORIGINAL-URL:https://buffalonavalpark.org
X-WR-CALDESC:Events for Buffalo Naval Park
REFRESH-INTERVAL;VALUE=DURATION:PT1H
X-Robots-Tag:noindex
X-PUBLISHED-TTL:PT1H
BEGIN:VTIMEZONE
TZID:America/Halifax
BEGIN:DAYLIGHT
TZOFFSETFROM:-0400
TZOFFSETTO:-0300
TZNAME:ADT
DTSTART:20240310T060000
END:DAYLIGHT
BEGIN:STANDARD
TZOFFSETFROM:-0300
TZOFFSETTO:-0400
TZNAME:AST
DTSTART:20241103T050000
END:STANDARD
BEGIN:DAYLIGHT
TZOFFSETFROM:-0400
TZOFFSETTO:-0300
TZNAME:ADT
DTSTART:20250309T060000
END:DAYLIGHT
BEGIN:STANDARD
TZOFFSETFROM:-0300
TZOFFSETTO:-0400
TZNAME:AST
DTSTART:20251102T050000
END:STANDARD
BEGIN:DAYLIGHT
TZOFFSETFROM:-0400
TZOFFSETTO:-0300
TZNAME:ADT
DTSTART:20260308T060000
END:DAYLIGHT
BEGIN:STANDARD
TZOFFSETFROM:-0300
TZOFFSETTO:-0400
TZNAME:AST
DTSTART:20261101T050000
END:STANDARD
END:VTIMEZONE
BEGIN:VEVENT
DTSTART;TZID=America/Halifax:20250201T130000
DTEND;TZID=America/Halifax:20250201T150000
DTSTAMP:20260421T024805
CREATED:20241120T212857Z
LAST-MODIFIED:20241120T212932Z
UID:17238-1738414800-1738422000@buffalonavalpark.org
SUMMARY:Blue Nose Winter Tours
DESCRIPTION:1:00 PM: Ship’s Archaeology \nAbout Blue Nose Winter Tours:The term “Blue Nose” is a Navy tradition that recognizes sailors who cross the Arctic Circle\, and our ships have all crossed the Arctic Circle at some point during their service. \nThe Buffalo and Erie County Naval & Military Park may be closed for the winter\, but we are offering a NEW series of guided tours to welcome visitors on board. Join us for a Blue Nose Winter Tour on Thursdays\, Fridays\, and Saturdays. We will offer our standard Docent-led tour of the Naval Park in the morning\, and a specialty tour each afternoon. \nSpaces are limited and must be booked in advance. The Buffalo Naval Park reserves the right to close the ships to visitors for safety concerns. If there is a cancellation due to weather conditions or safety issues\, you will be notified and a refund will be issued. \nClick here for additional tour options.
URL:https://buffalonavalpark.org/event/blue-nose-winter-tours-2-1/
LOCATION:Buffalo Naval Park\, United States
END:VEVENT
BEGIN:VEVENT
DTSTART;TZID=America/Halifax:20250206T103000
DTEND;TZID=America/Halifax:20250206T143000
DTSTAMP:20260421T024805
CREATED:20241120T204554Z
LAST-MODIFIED:20241120T211049Z
UID:17136-1738837800-1738852200@buffalonavalpark.org
SUMMARY:Blue Nose Winter Tours
DESCRIPTION:10:30 AM: Docent-Led Tour \n1:00 PM: City at Sea \nAbout Blue Nose Winter Tours:The term “Blue Nose” is a Navy tradition that recognizes sailors who cross the Arctic Circle\, and our ships have all crossed the Arctic Circle at some point during their service. \nThe Buffalo and Erie County Naval & Military Park may be closed for the winter\, but we are offering a NEW series of guided tours to welcome visitors on board. Join us for a Blue Nose Winter Tour on Thursdays\, Fridays\, and Saturdays. We will offer our standard Docent-led tour of the Naval Park in the morning\, and a specialty tour each afternoon. \nSpaces are limited and must be booked in advance. The Buffalo Naval Park reserves the right to close the ships to visitors for safety concerns. If there is a cancellation due to weather conditions or safety issues\, you will be notified and a refund will be issued. \nClick here for additional tour options.
URL:https://buffalonavalpark.org/event/blue-nose-winter-tours-2-6/
LOCATION:Buffalo Naval Park\, United States
END:VEVENT
BEGIN:VEVENT
DTSTART;TZID=America/Halifax:20250207T103000
DTEND;TZID=America/Halifax:20250207T143000
DTSTAMP:20260421T024805
CREATED:20241120T202736Z
LAST-MODIFIED:20241120T211029Z
UID:17121-1738924200-1738938600@buffalonavalpark.org
SUMMARY:Blue Nose Winter Tours
DESCRIPTION:10:30 AM: Docent-Led Tour \n1:00 PM: Combat Systems at Sea \nAbout Blue Nose Winter Tours:The term “Blue Nose” is a Navy tradition that recognizes sailors who cross the Arctic Circle\, and our ships have all crossed the Arctic Circle at some point during their service. \nThe Buffalo and Erie County Naval & Military Park may be closed for the winter\, but we are offering a NEW series of guided tours to welcome visitors on board. Join us for a Blue Nose Winter Tour on Thursdays\, Fridays\, and Saturdays. We will offer our standard Docent-led tour of the Naval Park in the morning\, and a specialty tour each afternoon. \nSpaces are limited and must be booked in advance. The Buffalo Naval Park reserves the right to close the ships to visitors for safety concerns. If there is a cancellation due to weather conditions or safety issues\, you will be notified and a refund will be issued. \nClick here for additional tour options.
URL:https://buffalonavalpark.org/event/blue-nose-winter-tours-2-7/
LOCATION:Buffalo Naval Park\, United States
END:VEVENT
BEGIN:VEVENT
DTSTART;TZID=America/Halifax:20250208T130000
DTEND;TZID=America/Halifax:20250208T143000
DTSTAMP:20260421T024805
CREATED:20241120T210123Z
LAST-MODIFIED:20241120T210123Z
UID:17159-1739019600-1739025000@buffalonavalpark.org
SUMMARY:Blue Nose Winter Tours
DESCRIPTION:1:00 PM: Healthcare at Sea \nAbout Blue Nose Winter Tours:The term “Blue Nose” is a Navy tradition that recognizes sailors who cross the Arctic Circle\, and our ships have all crossed the Arctic Circle at some point during their service. \nThe Buffalo and Erie County Naval & Military Park may be closed for the winter\, but we are offering a NEW series of guided tours to welcome visitors on board. Join us for a Blue Nose Winter Tour on Thursdays\, Fridays\, and Saturdays. We will offer our standard Docent-led tour of the Naval Park in the morning\, and a specialty tour each afternoon. \nSpaces are limited and must be booked in advance. The Buffalo Naval Park reserves the right to close the ships to visitors for safety concerns. If there is a cancellation due to weather conditions or safety issues\, you will be notified and a refund will be issued. \nClick here for additional tour options.
URL:https://buffalonavalpark.org/event/blue-nose-winter-tours-2-8/
LOCATION:Buffalo Naval Park\, United States
END:VEVENT
BEGIN:VEVENT
DTSTART;TZID=America/Halifax:20250213T103000
DTEND;TZID=America/Halifax:20250213T143000
DTSTAMP:20260421T024805
CREATED:20241120T201234Z
LAST-MODIFIED:20241120T210923Z
UID:17102-1739442600-1739457000@buffalonavalpark.org
SUMMARY:Blue Nose Winter Tours
DESCRIPTION:10:30 AM: Docent-Led Tour \n1:00 PM: Beneath the Sea \nAbout Blue Nose Winter Tours:The term “Blue Nose” is a Navy tradition that recognizes sailors who cross the Arctic Circle\, and our ships have all crossed the Arctic Circle at some point during their service. \nThe Buffalo and Erie County Naval & Military Park may be closed for the winter\, but we are offering a NEW series of guided tours to welcome visitors on board. Join us for a Blue Nose Winter Tour on Thursdays\, Fridays\, and Saturdays. We will offer our standard Docent-led tour of the Naval Park in the morning\, and a specialty tour each afternoon. \nSpaces are limited and must be booked in advance. The Buffalo Naval Park reserves the right to close the ships to visitors for safety concerns. If there is a cancellation due to weather conditions or safety issues\, you will be notified and a refund will be issued. \nClick here for additional tour options.
URL:https://buffalonavalpark.org/event/blue-nose-winter-tours-2-13/
LOCATION:Buffalo Naval Park\, United States
END:VEVENT
BEGIN:VEVENT
DTSTART;TZID=America/Halifax:20250214T103000
DTEND;TZID=America/Halifax:20250214T150000
DTSTAMP:20260421T024805
CREATED:20241120T213103Z
LAST-MODIFIED:20241120T213103Z
UID:17242-1739529000-1739545200@buffalonavalpark.org
SUMMARY:Blue Nose Winter Tours
DESCRIPTION:10:30 AM: Docent-Led Tour \n1:00 PM: Ship’s Archaeology \nAbout Blue Nose Winter Tours:The term “Blue Nose” is a Navy tradition that recognizes sailors who cross the Arctic Circle\, and our ships have all crossed the Arctic Circle at some point during their service. \nThe Buffalo and Erie County Naval & Military Park may be closed for the winter\, but we are offering a NEW series of guided tours to welcome visitors on board. Join us for a Blue Nose Winter Tour on Thursdays\, Fridays\, and Saturdays. We will offer our standard Docent-led tour of the Naval Park in the morning\, and a specialty tour each afternoon. \nSpaces are limited and must be booked in advance. The Buffalo Naval Park reserves the right to close the ships to visitors for safety concerns. If there is a cancellation due to weather conditions or safety issues\, you will be notified and a refund will be issued. \nClick here for additional tour options.
URL:https://buffalonavalpark.org/event/blue-nose-winter-tours-2-14/
LOCATION:Buffalo Naval Park\, United States
END:VEVENT
BEGIN:VEVENT
DTSTART;TZID=America/Halifax:20250215T130000
DTEND;TZID=America/Halifax:20250215T143000
DTSTAMP:20260421T024805
CREATED:20241120T204747Z
LAST-MODIFIED:20241120T210904Z
UID:17139-1739624400-1739629800@buffalonavalpark.org
SUMMARY:Blue Nose Winter Tours
DESCRIPTION:1:00 PM: City at Sea \nAbout Blue Nose Winter Tours:The term “Blue Nose” is a Navy tradition that recognizes sailors who cross the Arctic Circle\, and our ships have all crossed the Arctic Circle at some point during their service. \nThe Buffalo and Erie County Naval & Military Park may be closed for the winter\, but we are offering a NEW series of guided tours to welcome visitors on board. Join us for a Blue Nose Winter Tour on Thursdays\, Fridays\, and Saturdays. We will offer our standard Docent-led tour of the Naval Park in the morning\, and a specialty tour each afternoon. \nSpaces are limited and must be booked in advance. The Buffalo Naval Park reserves the right to close the ships to visitors for safety concerns. If there is a cancellation due to weather conditions or safety issues\, you will be notified and a refund will be issued. \nClick here for additional tour options.
URL:https://buffalonavalpark.org/event/blue-nose-winter-tours-2-15/
LOCATION:Buffalo Naval Park\, United States
END:VEVENT
BEGIN:VEVENT
DTSTART;TZID=America/Halifax:20250220T103000
DTEND;TZID=America/Halifax:20250220T143000
DTSTAMP:20260421T024805
CREATED:20241120T202924Z
LAST-MODIFIED:20241120T210845Z
UID:17124-1740047400-1740061800@buffalonavalpark.org
SUMMARY:Blue Nose Winter Tours
DESCRIPTION:10:30 AM: Docent-Led Tour \n1:00 PM: Combat Systems at Sea \nAbout Blue Nose Winter Tours:The term “Blue Nose” is a Navy tradition that recognizes sailors who cross the Arctic Circle\, and our ships have all crossed the Arctic Circle at some point during their service. \nThe Buffalo and Erie County Naval & Military Park may be closed for the winter\, but we are offering a NEW series of guided tours to welcome visitors on board. Join us for a Blue Nose Winter Tour on Thursdays\, Fridays\, and Saturdays. We will offer our standard Docent-led tour of the Naval Park in the morning\, and a specialty tour each afternoon. \nSpaces are limited and must be booked in advance. The Buffalo Naval Park reserves the right to close the ships to visitors for safety concerns. If there is a cancellation due to weather conditions or safety issues\, you will be notified and a refund will be issued. \nClick here for additional tour options.
URL:https://buffalonavalpark.org/event/blue-nose-winter-tours-2-20/
LOCATION:Buffalo Naval Park\, United States
END:VEVENT
BEGIN:VEVENT
DTSTART;TZID=America/Halifax:20250221T103000
DTEND;TZID=America/Halifax:20250221T143000
DTSTAMP:20260421T024805
CREATED:20241120T210248Z
LAST-MODIFIED:20241120T210248Z
UID:17162-1740133800-1740148200@buffalonavalpark.org
SUMMARY:Blue Nose Winter Tours
DESCRIPTION:10:30 AM: Docent-Led Tour \n1:00 PM: Healthcare at Sea \nAbout Blue Nose Winter Tours:The term “Blue Nose” is a Navy tradition that recognizes sailors who cross the Arctic Circle\, and our ships have all crossed the Arctic Circle at some point during their service. \nThe Buffalo and Erie County Naval & Military Park may be closed for the winter\, but we are offering a NEW series of guided tours to welcome visitors on board. Join us for a Blue Nose Winter Tour on Thursdays\, Fridays\, and Saturdays. We will offer our standard Docent-led tour of the Naval Park in the morning\, and a specialty tour each afternoon. \nSpaces are limited and must be booked in advance. The Buffalo Naval Park reserves the right to close the ships to visitors for safety concerns. If there is a cancellation due to weather conditions or safety issues\, you will be notified and a refund will be issued. \nClick here for additional tour options.
URL:https://buffalonavalpark.org/event/blue-nose-winter-tours-2-21/
LOCATION:Buffalo Naval Park\, United States
END:VEVENT
BEGIN:VEVENT
DTSTART;TZID=America/Halifax:20250222T130000
DTEND;TZID=America/Halifax:20250222T143000
DTSTAMP:20260421T024805
CREATED:20241120T201416Z
LAST-MODIFIED:20241120T210814Z
UID:17105-1740229200-1740234600@buffalonavalpark.org
SUMMARY:Blue Nose Winter Tours
DESCRIPTION:1:00 PM: Beneath the Sea \nAbout Blue Nose Winter Tours:The term “Blue Nose” is a Navy tradition that recognizes sailors who cross the Arctic Circle\, and our ships have all crossed the Arctic Circle at some point during their service. \nThe Buffalo and Erie County Naval & Military Park may be closed for the winter\, but we are offering a NEW series of guided tours to welcome visitors on board. Join us for a Blue Nose Winter Tour on Thursdays\, Fridays\, and Saturdays. We will offer our standard Docent-led tour of the Naval Park in the morning\, and a specialty tour each afternoon. \nSpaces are limited and must be booked in advance. The Buffalo Naval Park reserves the right to close the ships to visitors for safety concerns. If there is a cancellation due to weather conditions or safety issues\, you will be notified and a refund will be issued. \nClick here for additional tour options.
URL:https://buffalonavalpark.org/event/blue-nose-winter-tours-2-22/
LOCATION:Buffalo Naval Park\, United States
END:VEVENT
BEGIN:VEVENT
DTSTART;TZID=America/Halifax:20250227T103000
DTEND;TZID=America/Halifax:20250227T150000
DTSTAMP:20260421T024805
CREATED:20241120T213252Z
LAST-MODIFIED:20241120T213252Z
UID:17245-1740652200-1740668400@buffalonavalpark.org
SUMMARY:Blue Nose Winter Tours
DESCRIPTION:10:30 AM: Docent-Led Tour \n1:00 PM: Ship’s Archaeology \nAbout Blue Nose Winter Tours:The term “Blue Nose” is a Navy tradition that recognizes sailors who cross the Arctic Circle\, and our ships have all crossed the Arctic Circle at some point during their service. \nThe Buffalo and Erie County Naval & Military Park may be closed for the winter\, but we are offering a NEW series of guided tours to welcome visitors on board. Join us for a Blue Nose Winter Tour on Thursdays\, Fridays\, and Saturdays. We will offer our standard Docent-led tour of the Naval Park in the morning\, and a specialty tour each afternoon. \nSpaces are limited and must be booked in advance. The Buffalo Naval Park reserves the right to close the ships to visitors for safety concerns. If there is a cancellation due to weather conditions or safety issues\, you will be notified and a refund will be issued. \nClick here for additional tour options.
URL:https://buffalonavalpark.org/event/blue-nose-winter-tours-2-27/
LOCATION:Buffalo Naval Park\, United States
END:VEVENT
BEGIN:VEVENT
DTSTART;TZID=America/Halifax:20250228T103000
DTEND;TZID=America/Halifax:20250228T143000
DTSTAMP:20260421T024805
CREATED:20241120T204921Z
LAST-MODIFIED:20241120T210753Z
UID:17142-1740738600-1740753000@buffalonavalpark.org
SUMMARY:Blue Nose Winter Tours
DESCRIPTION:10:30 AM: Docent-Led Tour \n1:00 PM: City at Sea \nAbout Blue Nose Winter Tours:The term “Blue Nose” is a Navy tradition that recognizes sailors who cross the Arctic Circle\, and our ships have all crossed the Arctic Circle at some point during their service. \nThe Buffalo and Erie County Naval & Military Park may be closed for the winter\, but we are offering a NEW series of guided tours to welcome visitors on board. Join us for a Blue Nose Winter Tour on Thursdays\, Fridays\, and Saturdays. We will offer our standard Docent-led tour of the Naval Park in the morning\, and a specialty tour each afternoon. \nSpaces are limited and must be booked in advance. The Buffalo Naval Park reserves the right to close the ships to visitors for safety concerns. If there is a cancellation due to weather conditions or safety issues\, you will be notified and a refund will be issued. \nClick here for additional tour options.
URL:https://buffalonavalpark.org/event/blue-nose-winter-tours-2-28/
LOCATION:Buffalo Naval Park\, United States
END:VEVENT
END:VCALENDAR