BEGIN:VCALENDAR
VERSION:2.0
PRODID:-//Buffalo Naval Park - ECPv6.15.17.1//NONSGML v1.0//EN
CALSCALE:GREGORIAN
METHOD:PUBLISH
X-ORIGINAL-URL:https://buffalonavalpark.org
X-WR-CALDESC:Events for Buffalo Naval Park
REFRESH-INTERVAL;VALUE=DURATION:PT1H
X-Robots-Tag:noindex
X-PUBLISHED-TTL:PT1H
BEGIN:VTIMEZONE
TZID:America/Halifax
BEGIN:DAYLIGHT
TZOFFSETFROM:-0400
TZOFFSETTO:-0300
TZNAME:ADT
DTSTART:20240310T060000
END:DAYLIGHT
BEGIN:STANDARD
TZOFFSETFROM:-0300
TZOFFSETTO:-0400
TZNAME:AST
DTSTART:20241103T050000
END:STANDARD
BEGIN:DAYLIGHT
TZOFFSETFROM:-0400
TZOFFSETTO:-0300
TZNAME:ADT
DTSTART:20250309T060000
END:DAYLIGHT
BEGIN:STANDARD
TZOFFSETFROM:-0300
TZOFFSETTO:-0400
TZNAME:AST
DTSTART:20251102T050000
END:STANDARD
BEGIN:DAYLIGHT
TZOFFSETFROM:-0400
TZOFFSETTO:-0300
TZNAME:ADT
DTSTART:20260308T060000
END:DAYLIGHT
BEGIN:STANDARD
TZOFFSETFROM:-0300
TZOFFSETTO:-0400
TZNAME:AST
DTSTART:20261101T050000
END:STANDARD
END:VTIMEZONE
BEGIN:VEVENT
DTSTART;TZID=America/Halifax:20250103T103000
DTEND;TZID=America/Halifax:20250103T143000
DTSTAMP:20260421T041826
CREATED:20241120T205652Z
LAST-MODIFIED:20241120T205652Z
UID:17150-1735900200-1735914600@buffalonavalpark.org
SUMMARY:Blue Nose Winter Tours
DESCRIPTION:10:30 AM: Docent-Led Tour \n1:00 PM: Healthcare at Sea \nAbout Blue Nose Winter Tours:The term “Blue Nose” is a Navy tradition that recognizes sailors who cross the Arctic Circle\, and our ships have all crossed the Arctic Circle at some point during their service. \nThe Buffalo and Erie County Naval & Military Park may be closed for the winter\, but we are offering a NEW series of guided tours to welcome visitors on board. Join us for a Blue Nose Winter Tour on Thursdays\, Fridays\, and Saturdays. We will offer our standard Docent-led tour of the Naval Park in the morning\, and a specialty tour each afternoon. \nSpaces are limited and must be booked in advance. The Buffalo Naval Park reserves the right to close the ships to visitors for safety concerns. If there is a cancellation due to weather conditions or safety issues\, you will be notified and a refund will be issued. \nClick here for additional tour options.
URL:https://buffalonavalpark.org/event/blue-nose-winter-tours-1-3/
LOCATION:Buffalo Naval Park\, United States
END:VEVENT
BEGIN:VEVENT
DTSTART;TZID=America/Halifax:20250104T130000
DTEND;TZID=America/Halifax:20250104T150000
DTSTAMP:20260421T041826
CREATED:20241120T212442Z
LAST-MODIFIED:20241120T212442Z
UID:17229-1735995600-1736002800@buffalonavalpark.org
SUMMARY:Blue Nose Winter Tours
DESCRIPTION:1:00 PM: Ship’s Archaeology \nAbout Blue Nose Winter Tours:The term “Blue Nose” is a Navy tradition that recognizes sailors who cross the Arctic Circle\, and our ships have all crossed the Arctic Circle at some point during their service. \nThe Buffalo and Erie County Naval & Military Park may be closed for the winter\, but we are offering a NEW series of guided tours to welcome visitors on board. Join us for a Blue Nose Winter Tour on Thursdays\, Fridays\, and Saturdays. We will offer our standard Docent-led tour of the Naval Park in the morning\, and a specialty tour each afternoon. \nSpaces are limited and must be booked in advance. The Buffalo Naval Park reserves the right to close the ships to visitors for safety concerns. If there is a cancellation due to weather conditions or safety issues\, you will be notified and a refund will be issued. \nClick here for additional tour options.
URL:https://buffalonavalpark.org/event/blue-nose-winter-tours-1-4/
LOCATION:Buffalo Naval Park\, United States
END:VEVENT
BEGIN:VEVENT
DTSTART;TZID=America/Halifax:20250109T103000
DTEND;TZID=America/Halifax:20250109T143000
DTSTAMP:20260421T041826
CREATED:20241120T200616Z
LAST-MODIFIED:20241120T211353Z
UID:17093-1736418600-1736433000@buffalonavalpark.org
SUMMARY:Blue Nose Winter Tours
DESCRIPTION:10:30 AM: Docent-Led Tour \n1:00 PM: Beneath the Sea \nAbout Blue Nose Winter Tours:The term “Blue Nose” is a Navy tradition that recognizes sailors who cross the Arctic Circle\, and our ships have all crossed the Arctic Circle at some point during their service. \nThe Buffalo and Erie County Naval & Military Park may be closed for the winter\, but we are offering a NEW series of guided tours to welcome visitors on board. Join us for a Blue Nose Winter Tour on Thursdays\, Fridays\, and Saturdays. We will offer our standard Docent-led tour of the Naval Park in the morning\, and a specialty tour each afternoon. \nSpaces are limited and must be booked in advance. The Buffalo Naval Park reserves the right to close the ships to visitors for safety concerns. If there is a cancellation due to weather conditions or safety issues\, you will be notified and a refund will be issued. \nClick here for additional tour options.
URL:https://buffalonavalpark.org/event/blue-nose-winter-tours-1-9/
LOCATION:Buffalo Naval Park\, United States
END:VEVENT
BEGIN:VEVENT
DTSTART;TZID=America/Halifax:20250110T103000
DTEND;TZID=America/Halifax:20250110T150000
DTSTAMP:20260421T041826
CREATED:20241120T212604Z
LAST-MODIFIED:20241120T214328Z
UID:17232-1736505000-1736521200@buffalonavalpark.org
SUMMARY:Blue Nose Winter Tours
DESCRIPTION:10:30 AM: Docent-Led Tour \n1:00 PM: Ship’s Archaeology \nAbout Blue Nose Winter Tours:The term “Blue Nose” is a Navy tradition that recognizes sailors who cross the Arctic Circle\, and our ships have all crossed the Arctic Circle at some point during their service. \nThe Buffalo and Erie County Naval & Military Park may be closed for the winter\, but we are offering a NEW series of guided tours to welcome visitors on board. Join us for a Blue Nose Winter Tour on Thursdays\, Fridays\, and Saturdays. We will offer our standard Docent-led tour of the Naval Park in the morning\, and a specialty tour each afternoon. \nSpaces are limited and must be booked in advance. The Buffalo Naval Park reserves the right to close the ships to visitors for safety concerns. If there is a cancellation due to weather conditions or safety issues\, you will be notified and a refund will be issued. \nClick here for additional tour options.
URL:https://buffalonavalpark.org/event/blue-nose-winter-tours-1-10/
LOCATION:Buffalo Naval Park\, United States
END:VEVENT
BEGIN:VEVENT
DTSTART;TZID=America/Halifax:20250111T130000
DTEND;TZID=America/Halifax:20250111T143000
DTSTAMP:20260421T041826
CREATED:20241120T203947Z
LAST-MODIFIED:20241120T214405Z
UID:17130-1736600400-1736605800@buffalonavalpark.org
SUMMARY:Blue Nose Winter Tours
DESCRIPTION:1:00 PM: City at Sea \nAbout Blue Nose Winter Tours:The term “Blue Nose” is a Navy tradition that recognizes sailors who cross the Arctic Circle\, and our ships have all crossed the Arctic Circle at some point during their service. \nThe Buffalo and Erie County Naval & Military Park may be closed for the winter\, but we are offering a NEW series of guided tours to welcome visitors on board. Join us for a Blue Nose Winter Tour on Thursdays\, Fridays\, and Saturdays. We will offer our standard Docent-led tour of the Naval Park in the morning\, and a specialty tour each afternoon. \nSpaces are limited and must be booked in advance. The Buffalo Naval Park reserves the right to close the ships to visitors for safety concerns. If there is a cancellation due to weather conditions or safety issues\, you will be notified and a refund will be issued. \nClick here for additional tour options.
URL:https://buffalonavalpark.org/event/blue-nose-winter-tours-1-11/
LOCATION:Buffalo Naval Park\, United States
END:VEVENT
BEGIN:VEVENT
DTSTART;TZID=America/Halifax:20250116T103000
DTEND;TZID=America/Halifax:20250116T143000
DTSTAMP:20260421T041826
CREATED:20241120T202411Z
LAST-MODIFIED:20241120T211310Z
UID:17115-1737023400-1737037800@buffalonavalpark.org
SUMMARY:Blue Nose Winter Tours
DESCRIPTION:10:30 AM: Docent-Led Tour \n1:00 PM: Combat Systems at Sea \nAbout Blue Nose Winter Tours:The term “Blue Nose” is a Navy tradition that recognizes sailors who cross the Arctic Circle\, and our ships have all crossed the Arctic Circle at some point during their service. \nThe Buffalo and Erie County Naval & Military Park may be closed for the winter\, but we are offering a NEW series of guided tours to welcome visitors on board. Join us for a Blue Nose Winter Tour on Thursdays\, Fridays\, and Saturdays. We will offer our standard Docent-led tour of the Naval Park in the morning\, and a specialty tour each afternoon. \nSpaces are limited and must be booked in advance. The Buffalo Naval Park reserves the right to close the ships to visitors for safety concerns. If there is a cancellation due to weather conditions or safety issues\, you will be notified and a refund will be issued. \nClick here for additional tour options.
URL:https://buffalonavalpark.org/event/blue-nose-winter-tours-1-16/
LOCATION:Buffalo Naval Park\, United States
END:VEVENT
BEGIN:VEVENT
DTSTART;TZID=America/Halifax:20250117T103000
DTEND;TZID=America/Halifax:20250117T143000
DTSTAMP:20260421T041826
CREATED:20241120T205809Z
LAST-MODIFIED:20241120T214440Z
UID:17153-1737109800-1737124200@buffalonavalpark.org
SUMMARY:Blue Nose Winter Tours
DESCRIPTION:10:30 AM: Docent-Led Tour \n1:00 PM: Healthcare at Sea \nAbout Blue Nose Winter Tours:The term “Blue Nose” is a Navy tradition that recognizes sailors who cross the Arctic Circle\, and our ships have all crossed the Arctic Circle at some point during their service. \nThe Buffalo and Erie County Naval & Military Park may be closed for the winter\, but we are offering a NEW series of guided tours to welcome visitors on board. Join us for a Blue Nose Winter Tour on Thursdays\, Fridays\, and Saturdays. We will offer our standard Docent-led tour of the Naval Park in the morning\, and a specialty tour each afternoon. \nSpaces are limited and must be booked in advance. The Buffalo Naval Park reserves the right to close the ships to visitors for safety concerns. If there is a cancellation due to weather conditions or safety issues\, you will be notified and a refund will be issued. \nClick here for additional tour options.
URL:https://buffalonavalpark.org/event/blue-nose-winter-tours-1-17/
LOCATION:Buffalo Naval Park\, United States
END:VEVENT
BEGIN:VEVENT
DTSTART;TZID=America/Halifax:20250118T130000
DTEND;TZID=America/Halifax:20250118T143000
DTSTAMP:20260421T041826
CREATED:20241120T200947Z
LAST-MODIFIED:20241120T211227Z
UID:17099-1737205200-1737210600@buffalonavalpark.org
SUMMARY:Blue Nose Winter Tours
DESCRIPTION:1:00 PM: Beneath the Sea \nAbout Blue Nose Winter Tours:The term “Blue Nose” is a Navy tradition that recognizes sailors who cross the Arctic Circle\, and our ships have all crossed the Arctic Circle at some point during their service. \nThe Buffalo and Erie County Naval & Military Park may be closed for the winter\, but we are offering a NEW series of guided tours to welcome visitors on board. Join us for a Blue Nose Winter Tour on Thursdays\, Fridays\, and Saturdays. We will offer our standard Docent-led tour of the Naval Park in the morning\, and a specialty tour each afternoon. \nSpaces are limited and must be booked in advance. The Buffalo Naval Park reserves the right to close the ships to visitors for safety concerns. If there is a cancellation due to weather conditions or safety issues\, you will be notified and a refund will be issued. \nClick here for additional tour options.
URL:https://buffalonavalpark.org/event/blue-nose-winter-tours-1-18/
LOCATION:Buffalo Naval Park\, United States
END:VEVENT
BEGIN:VEVENT
DTSTART;TZID=America/Halifax:20250123T103000
DTEND;TZID=America/Halifax:20250123T150000
DTSTAMP:20260421T041826
CREATED:20241120T212732Z
LAST-MODIFIED:20241120T212732Z
UID:17235-1737628200-1737644400@buffalonavalpark.org
SUMMARY:Blue Nose Winter Tours
DESCRIPTION:10:30 AM: Docent-Led Tour \n1:00 PM: Ship’s Archaeology \nAbout Blue Nose Winter Tours:The term “Blue Nose” is a Navy tradition that recognizes sailors who cross the Arctic Circle\, and our ships have all crossed the Arctic Circle at some point during their service. \nThe Buffalo and Erie County Naval & Military Park may be closed for the winter\, but we are offering a NEW series of guided tours to welcome visitors on board. Join us for a Blue Nose Winter Tour on Thursdays\, Fridays\, and Saturdays. We will offer our standard Docent-led tour of the Naval Park in the morning\, and a specialty tour each afternoon. \nSpaces are limited and must be booked in advance. The Buffalo Naval Park reserves the right to close the ships to visitors for safety concerns. If there is a cancellation due to weather conditions or safety issues\, you will be notified and a refund will be issued. \nClick here for additional tour options.
URL:https://buffalonavalpark.org/event/blue-nose-winter-tours-1-23/
LOCATION:Buffalo Naval Park\, United States
END:VEVENT
BEGIN:VEVENT
DTSTART;TZID=America/Halifax:20250124T103000
DTEND;TZID=America/Halifax:20250124T143000
DTSTAMP:20260421T041826
CREATED:20241120T204343Z
LAST-MODIFIED:20241120T211206Z
UID:17133-1737714600-1737729000@buffalonavalpark.org
SUMMARY:Blue Nose Winter Tours
DESCRIPTION:10:30 AM: Docent-Led Tour \n1:00 PM: City at Sea \nAbout Blue Nose Winter Tours:The term “Blue Nose” is a Navy tradition that recognizes sailors who cross the Arctic Circle\, and our ships have all crossed the Arctic Circle at some point during their service. \nThe Buffalo and Erie County Naval & Military Park may be closed for the winter\, but we are offering a NEW series of guided tours to welcome visitors on board. Join us for a Blue Nose Winter Tour on Thursdays\, Fridays\, and Saturdays. We will offer our standard Docent-led tour of the Naval Park in the morning\, and a specialty tour each afternoon. \nSpaces are limited and must be booked in advance. The Buffalo Naval Park reserves the right to close the ships to visitors for safety concerns. If there is a cancellation due to weather conditions or safety issues\, you will be notified and a refund will be issued. \nClick here for additional tour options.
URL:https://buffalonavalpark.org/event/blue-nose-winter-tours-1-24/
LOCATION:Buffalo Naval Park\, United States
END:VEVENT
BEGIN:VEVENT
DTSTART;TZID=America/Halifax:20250125T130000
DTEND;TZID=America/Halifax:20250125T143000
DTSTAMP:20260421T041826
CREATED:20241120T202543Z
LAST-MODIFIED:20241120T211146Z
UID:17118-1737810000-1737815400@buffalonavalpark.org
SUMMARY:Blue Nose Winter Tours
DESCRIPTION:1:00 PM: Combat Systems at Sea \nAbout Blue Nose Winter Tours:The term “Blue Nose” is a Navy tradition that recognizes sailors who cross the Arctic Circle\, and our ships have all crossed the Arctic Circle at some point during their service. \nThe Buffalo and Erie County Naval & Military Park may be closed for the winter\, but we are offering a NEW series of guided tours to welcome visitors on board. Join us for a Blue Nose Winter Tour on Thursdays\, Fridays\, and Saturdays. We will offer our standard Docent-led tour of the Naval Park in the morning\, and a specialty tour each afternoon. \nSpaces are limited and must be booked in advance. The Buffalo Naval Park reserves the right to close the ships to visitors for safety concerns. If there is a cancellation due to weather conditions or safety issues\, you will be notified and a refund will be issued. \nClick here for additional tour options.
URL:https://buffalonavalpark.org/event/blue-nose-winter-tours-1-25/
LOCATION:Buffalo Naval Park\, United States
END:VEVENT
BEGIN:VEVENT
DTSTART;TZID=America/Halifax:20250130T103000
DTEND;TZID=America/Halifax:20250130T143000
DTSTAMP:20260421T041826
CREATED:20241120T205941Z
LAST-MODIFIED:20241120T205941Z
UID:17156-1738233000-1738247400@buffalonavalpark.org
SUMMARY:Blue Nose Winter Tours
DESCRIPTION:10:30 AM: Docent-Led Tour \n1:00 PM: Healthcare at Sea \nAbout Blue Nose Winter Tours:The term “Blue Nose” is a Navy tradition that recognizes sailors who cross the Arctic Circle\, and our ships have all crossed the Arctic Circle at some point during their service. \nThe Buffalo and Erie County Naval & Military Park may be closed for the winter\, but we are offering a NEW series of guided tours to welcome visitors on board. Join us for a Blue Nose Winter Tour on Thursdays\, Fridays\, and Saturdays. We will offer our standard Docent-led tour of the Naval Park in the morning\, and a specialty tour each afternoon. \nSpaces are limited and must be booked in advance. The Buffalo Naval Park reserves the right to close the ships to visitors for safety concerns. If there is a cancellation due to weather conditions or safety issues\, you will be notified and a refund will be issued. \nClick here for additional tour options.
URL:https://buffalonavalpark.org/event/blue-nose-winter-tours-1-30/
LOCATION:Buffalo Naval Park\, United States
END:VEVENT
BEGIN:VEVENT
DTSTART;TZID=America/Halifax:20250131T103000
DTEND;TZID=America/Halifax:20250131T143000
DTSTAMP:20260421T041826
CREATED:20241120T200801Z
LAST-MODIFIED:20241120T211109Z
UID:17096-1738319400-1738333800@buffalonavalpark.org
SUMMARY:Blue Nose Winter Tours
DESCRIPTION:10:30 AM: Docent-Led Tour \n1:00 PM: Beneath the Sea \nAbout Blue Nose Winter Tours:The term “Blue Nose” is a Navy tradition that recognizes sailors who cross the Arctic Circle\, and our ships have all crossed the Arctic Circle at some point during their service. \nThe Buffalo and Erie County Naval & Military Park may be closed for the winter\, but we are offering a NEW series of guided tours to welcome visitors on board. Join us for a Blue Nose Winter Tour on Thursdays\, Fridays\, and Saturdays. We will offer our standard Docent-led tour of the Naval Park in the morning\, and a specialty tour each afternoon. \nSpaces are limited and must be booked in advance. The Buffalo Naval Park reserves the right to close the ships to visitors for safety concerns. If there is a cancellation due to weather conditions or safety issues\, you will be notified and a refund will be issued. \nClick here for additional tour options.
URL:https://buffalonavalpark.org/event/blue-nose-winter-tours-1-31/
LOCATION:Buffalo Naval Park\, United States
END:VEVENT
END:VCALENDAR