BEGIN:VCALENDAR
VERSION:2.0
PRODID:-//Buffalo Naval Park - ECPv6.15.17.1//NONSGML v1.0//EN
CALSCALE:GREGORIAN
METHOD:PUBLISH
X-WR-CALNAME:Buffalo Naval Park
X-ORIGINAL-URL:https://buffalonavalpark.org
X-WR-CALDESC:Events for Buffalo Naval Park
REFRESH-INTERVAL;VALUE=DURATION:PT1H
X-Robots-Tag:noindex
X-PUBLISHED-TTL:PT1H
BEGIN:VTIMEZONE
TZID:America/Halifax
BEGIN:DAYLIGHT
TZOFFSETFROM:-0400
TZOFFSETTO:-0300
TZNAME:ADT
DTSTART:20230312T060000
END:DAYLIGHT
BEGIN:STANDARD
TZOFFSETFROM:-0300
TZOFFSETTO:-0400
TZNAME:AST
DTSTART:20231105T050000
END:STANDARD
BEGIN:DAYLIGHT
TZOFFSETFROM:-0400
TZOFFSETTO:-0300
TZNAME:ADT
DTSTART:20240310T060000
END:DAYLIGHT
BEGIN:STANDARD
TZOFFSETFROM:-0300
TZOFFSETTO:-0400
TZNAME:AST
DTSTART:20241103T050000
END:STANDARD
BEGIN:DAYLIGHT
TZOFFSETFROM:-0400
TZOFFSETTO:-0300
TZNAME:ADT
DTSTART:20250309T060000
END:DAYLIGHT
BEGIN:STANDARD
TZOFFSETFROM:-0300
TZOFFSETTO:-0400
TZNAME:AST
DTSTART:20251102T050000
END:STANDARD
END:VTIMEZONE
BEGIN:VEVENT
DTSTART;TZID=America/Halifax:20241005T130000
DTEND;TZID=America/Halifax:20241005T150000
DTSTAMP:20260421T090903
CREATED:20240701T155634Z
LAST-MODIFIED:20240701T155634Z
UID:16683-1728133200-1728140400@buffalonavalpark.org
SUMMARY:Behind the Scenes Curator Tour
DESCRIPTION:Join the Buffalo Naval and Military Park’s Curator and Director of Museum Collections\, Shane Stephenson\, for a special behind the scenes tour of USS Little Rock\, the last remaining Cleveland-class cruiser in the world. \nThis tour will give an in-depth look at our ships as artifacts and highlight some of the challenges in preserving them for future generations. You’ll visit spaces aboard USS Little Rock and USS The Sullivans that are not available on any other tour\, while also getting an up close look at the main deck of PTF-17. \nEach tour will last approximately 2 hours and will be limited to 11 people. When touring most areas of the ship\, visitors should expect to traverse narrow passageways\, be able to step over significantly raised thresholds\, and climb up and down very steep ladders. We recommend that you wear comfortable clothes\, closed-toe shoes\, and bring a flashlight. Due to the length of the tour and the spaces that will be visited\, this tour is not recommended for those under 11 years of age. \nCurator Tours will take place at 1:00 PM. \nClick here to purchase your tickets!
URL:https://buffalonavalpark.org/event/behind-the-scenes-curator-tour-84/
LOCATION:Buffalo Naval Park\, United States
END:VEVENT
BEGIN:VEVENT
DTSTART;TZID=America/Halifax:20241005T160000
DTEND;TZID=America/Halifax:20241006T100000
DTSTAMP:20260421T090903
CREATED:20240701T161932Z
LAST-MODIFIED:20240701T161932Z
UID:16714-1728144000-1728208800@buffalonavalpark.org
SUMMARY:Overnight Youth Encampment
DESCRIPTION:Spend the night aboard USS Little Rock! Our overnight youth encampment is a unique adventure for scouts\, youth groups\, friends\, and families. \nDuring your overnight encampment\, you will: \n• Sleep in berthing compartments where the real Little Rock crew lived; \n• Enjoy dinner and breakfast in the crew’s Mess Deck; \n• Tour the USS Little Rock\, USS The Sullivans\, and USS Croaker; \n• Participate in educational programs and activities to learn about life onboard ship (educational programs may vary). \nVisit buffalonavalpark.org/overnight for additional information.
URL:https://buffalonavalpark.org/event/overnight-youth-encampment-35/
LOCATION:Buffalo Naval Park\, United States
END:VEVENT
BEGIN:VEVENT
DTSTART;TZID=America/Halifax:20241006T130000
DTEND;TZID=America/Halifax:20241006T150000
DTSTAMP:20260421T090903
CREATED:20240701T155748Z
LAST-MODIFIED:20240701T155748Z
UID:16686-1728219600-1728226800@buffalonavalpark.org
SUMMARY:Behind the Scenes Curator Tour
DESCRIPTION:Join the Buffalo Naval and Military Park’s Curator and Director of Museum Collections\, Shane Stephenson\, for a special behind the scenes tour of USS Little Rock\, the last remaining Cleveland-class cruiser in the world. \nThis tour will give an in-depth look at our ships as artifacts and highlight some of the challenges in preserving them for future generations. You’ll visit spaces aboard USS Little Rock and USS The Sullivans that are not available on any other tour\, while also getting an up close look at the main deck of PTF-17. \nEach tour will last approximately 2 hours and will be limited to 11 people. When touring most areas of the ship\, visitors should expect to traverse narrow passageways\, be able to step over significantly raised thresholds\, and climb up and down very steep ladders. We recommend that you wear comfortable clothes\, closed-toe shoes\, and bring a flashlight. Due to the length of the tour and the spaces that will be visited\, this tour is not recommended for those under 11 years of age. \nCurator Tours will take place at 1:00 PM. \nClick here to purchase your tickets!
URL:https://buffalonavalpark.org/event/behind-the-scenes-curator-tour-85/
LOCATION:Buffalo Naval Park\, United States
END:VEVENT
BEGIN:VEVENT
DTSTART;TZID=America/Halifax:20241012T160000
DTEND;TZID=America/Halifax:20241013T100000
DTSTAMP:20260421T090903
CREATED:20240701T162105Z
LAST-MODIFIED:20240701T162105Z
UID:16717-1728748800-1728813600@buffalonavalpark.org
SUMMARY:Overnight Youth Encampment
DESCRIPTION:Spend the night aboard USS Little Rock! Our overnight youth encampment is a unique adventure for scouts\, youth groups\, friends\, and families. \nDuring your overnight encampment\, you will: \n• Sleep in berthing compartments where the real Little Rock crew lived; \n• Enjoy dinner and breakfast in the crew’s Mess Deck; \n• Tour the USS Little Rock\, USS The Sullivans\, and USS Croaker; \n• Participate in educational programs and activities to learn about life onboard ship (educational programs may vary). \nVisit buffalonavalpark.org/overnight for additional information.
URL:https://buffalonavalpark.org/event/overnight-youth-encampment-36/
LOCATION:Buffalo Naval Park\, United States
END:VEVENT
BEGIN:VEVENT
DTSTART;TZID=America/Halifax:20241019T110000
DTEND;TZID=America/Halifax:20241019T140000
DTSTAMP:20260421T090903
CREATED:20241004T202012Z
LAST-MODIFIED:20241004T202012Z
UID:16910-1729335600-1729346400@buffalonavalpark.org
SUMMARY:LCDR Ralph C. Wilson\, Jr. Day
DESCRIPTION:Celebrate LCDR Ralph C. Wilson\, Jr.’s legacy and service at the Buffalo Naval & Military Park on Saturday\, October 19. There will be activities and giveaways for kids from 11:00 AM – 2:00 PM\, and the Buffalo Naval Park will offer “pay what you wish” admission. \nRalph C. Wilson\, Jr. (October 17\, 1918-March 25\, 2014) served as a Lieutenant Commander in the U.S. Navy during World War II and was the commanding officer of the minesweeper USS Picket. He served in both the Atlantic and Pacific theatres and navigated the first ship into Tokyo Bay after the atomic bomb had been dropped. \nHe later became a successful businessman and is best known as the founder and 54-year owner of the Buffalo Bills. In 2017\, his wife Mary Wilson generously donated her husband’s military uniform\, medals\, and letters he wrote to his dad while in service.
URL:https://buffalonavalpark.org/event/lcdr-ralph-c-wilson-jr-day-2/
LOCATION:Buffalo Naval Park\, United States
END:VEVENT
BEGIN:VEVENT
DTSTART;TZID=America/Halifax:20241019T130000
DTEND;TZID=America/Halifax:20241019T150000
DTSTAMP:20260421T090903
CREATED:20240701T155904Z
LAST-MODIFIED:20240701T155904Z
UID:16689-1729342800-1729350000@buffalonavalpark.org
SUMMARY:Behind the Scenes Curator Tour
DESCRIPTION:Join the Buffalo Naval and Military Park’s Curator and Director of Museum Collections\, Shane Stephenson\, for a special behind the scenes tour of USS Little Rock\, the last remaining Cleveland-class cruiser in the world. \nThis tour will give an in-depth look at our ships as artifacts and highlight some of the challenges in preserving them for future generations. You’ll visit spaces aboard USS Little Rock and USS The Sullivans that are not available on any other tour\, while also getting an up close look at the main deck of PTF-17. \nEach tour will last approximately 2 hours and will be limited to 11 people. When touring most areas of the ship\, visitors should expect to traverse narrow passageways\, be able to step over significantly raised thresholds\, and climb up and down very steep ladders. We recommend that you wear comfortable clothes\, closed-toe shoes\, and bring a flashlight. Due to the length of the tour and the spaces that will be visited\, this tour is not recommended for those under 11 years of age. \nCurator Tours will take place at 1:00 PM. \nClick here to purchase your tickets!
URL:https://buffalonavalpark.org/event/behind-the-scenes-curator-tour-86/
LOCATION:Buffalo Naval Park\, United States
END:VEVENT
BEGIN:VEVENT
DTSTART;TZID=America/Halifax:20241019T160000
DTEND;TZID=America/Halifax:20241020T100000
DTSTAMP:20260421T090903
CREATED:20240701T162317Z
LAST-MODIFIED:20240701T162317Z
UID:16720-1729353600-1729418400@buffalonavalpark.org
SUMMARY:Overnight Youth Encampment
DESCRIPTION:Spend the night aboard USS Little Rock! Our overnight youth encampment is a unique adventure for scouts\, youth groups\, friends\, and families. \nDuring your overnight encampment\, you will: \n• Sleep in berthing compartments where the real Little Rock crew lived; \n• Enjoy dinner and breakfast in the crew’s Mess Deck; \n• Tour the USS Little Rock\, USS The Sullivans\, and USS Croaker; \n• Participate in educational programs and activities to learn about life onboard ship (educational programs may vary). \nVisit buffalonavalpark.org/overnight for additional information.
URL:https://buffalonavalpark.org/event/overnight-youth-encampment-37/
LOCATION:Buffalo Naval Park\, United States
END:VEVENT
BEGIN:VEVENT
DTSTART;TZID=America/Halifax:20241026T110000
DTEND;TZID=America/Halifax:20241026T150000
DTSTAMP:20260421T090903
CREATED:20240924T155926Z
LAST-MODIFIED:20240924T155926Z
UID:16867-1729940400-1729954800@buffalonavalpark.org
SUMMARY:Ship or Treat
DESCRIPTION:Celebrate Halloween at the Buffalo Naval & Military Park! Wear your costume and “Ship-or-Treat” aboard USS The Sullivans\, USS Little Rock\, and USS Croaker to participate in family activities and collect Halloween goodies. Admission to the Naval Park is included in the ticket price. This event is designed for children ages 16 and under. \nThe Naval Park will be open from 10:00 AM – 4:00 PM\, with last admission at 3:00 PM. The Ship or Treat activities will be available between 11:00 AM – 3:00 PM. \nPlease purchase a Ship or Treat ticket only for those who wish to participate in the activities and Halloween goodies. All other guests can purchase a general admission ticket. All children ages 16 and under must be accompanied by an adult. \nThe price is $12 for Members and $20 for Non-Members. Members can enter their membership number to receive the discounted Ship or Treat ticket online and/or show their membership ID upon arrival. \nWhen touring most areas of the ships\, visitors should expect to traverse narrow passageways\, be able to step over significantly raised thresholds\, and climb up and down very steep ladders. If you choose to wear a costume\, please ensure that it is family friendly and fits properly to help prevent trips and falls. Please avoid items such as oversized shoes\, high heels\, and long capes.
URL:https://buffalonavalpark.org/event/ship-or-treat-2/
LOCATION:Buffalo Naval Park\, United States
END:VEVENT
BEGIN:VEVENT
DTSTART;TZID=America/Halifax:20241026T130000
DTEND;TZID=America/Halifax:20241026T150000
DTSTAMP:20260421T090903
CREATED:20240701T160029Z
LAST-MODIFIED:20240701T160029Z
UID:16692-1729947600-1729954800@buffalonavalpark.org
SUMMARY:Behind the Scenes Curator Tour
DESCRIPTION:Join the Buffalo Naval and Military Park’s Curator and Director of Museum Collections\, Shane Stephenson\, for a special behind the scenes tour of USS Little Rock\, the last remaining Cleveland-class cruiser in the world. \nThis tour will give an in-depth look at our ships as artifacts and highlight some of the challenges in preserving them for future generations. You’ll visit spaces aboard USS Little Rock and USS The Sullivans that are not available on any other tour\, while also getting an up close look at the main deck of PTF-17. \nEach tour will last approximately 2 hours and will be limited to 11 people. When touring most areas of the ship\, visitors should expect to traverse narrow passageways\, be able to step over significantly raised thresholds\, and climb up and down very steep ladders. We recommend that you wear comfortable clothes\, closed-toe shoes\, and bring a flashlight. Due to the length of the tour and the spaces that will be visited\, this tour is not recommended for those under 11 years of age. \nCurator Tours will take place at 1:00 PM. \nClick here to purchase your tickets!
URL:https://buffalonavalpark.org/event/behind-the-scenes-curator-tour-87/
LOCATION:Buffalo Naval Park\, United States
END:VEVENT
BEGIN:VEVENT
DTSTART;TZID=America/Halifax:20241026T173000
DTEND;TZID=America/Halifax:20241026T203000
DTSTAMP:20260421T090903
CREATED:20241009T201227Z
LAST-MODIFIED:20241009T201227Z
UID:16922-1729963800-1729974600@buffalonavalpark.org
SUMMARY:The Twilight Zone Military Marathon
DESCRIPTION:Join us for a special Twilight Zone marathon featuring four military-themed episodes: The Thirty-Fathom Grave\, King Nine Will Not Return\, Deaths-Head Revisited\, and The Shelter. The screening will take place aboard USS Little Rock on Saturday\, October 26. Doors open at 5:00 PM\, and the episodes will begin immediately following a pre-film presentation at 5:30 PM. \nThis event is free to attend but a ticket is REQUIRED as space is very limited. \nPizza and movie-style concessions will be available for purchase. \nWe regret that due to the historical nature of the ships\, handicap access is limited. For more information\, please email shane@buffalonavalpark.org or call 716-847-1773\, ext. 11.
URL:https://buffalonavalpark.org/event/the-twilight-zone-2/
LOCATION:Buffalo Naval Park\, United States
END:VEVENT
END:VCALENDAR