BEGIN:VCALENDAR
VERSION:2.0
PRODID:-//Buffalo Naval Park - ECPv6.15.17.1//NONSGML v1.0//EN
CALSCALE:GREGORIAN
METHOD:PUBLISH
X-WR-CALNAME:Buffalo Naval Park
X-ORIGINAL-URL:https://buffalonavalpark.org
X-WR-CALDESC:Events for Buffalo Naval Park
REFRESH-INTERVAL;VALUE=DURATION:PT1H
X-Robots-Tag:noindex
X-PUBLISHED-TTL:PT1H
BEGIN:VTIMEZONE
TZID:America/Halifax
BEGIN:DAYLIGHT
TZOFFSETFROM:-0400
TZOFFSETTO:-0300
TZNAME:ADT
DTSTART:20230312T060000
END:DAYLIGHT
BEGIN:STANDARD
TZOFFSETFROM:-0300
TZOFFSETTO:-0400
TZNAME:AST
DTSTART:20231105T050000
END:STANDARD
BEGIN:DAYLIGHT
TZOFFSETFROM:-0400
TZOFFSETTO:-0300
TZNAME:ADT
DTSTART:20240310T060000
END:DAYLIGHT
BEGIN:STANDARD
TZOFFSETFROM:-0300
TZOFFSETTO:-0400
TZNAME:AST
DTSTART:20241103T050000
END:STANDARD
BEGIN:DAYLIGHT
TZOFFSETFROM:-0400
TZOFFSETTO:-0300
TZNAME:ADT
DTSTART:20250309T060000
END:DAYLIGHT
BEGIN:STANDARD
TZOFFSETFROM:-0300
TZOFFSETTO:-0400
TZNAME:AST
DTSTART:20251102T050000
END:STANDARD
END:VTIMEZONE
BEGIN:VEVENT
DTSTART;TZID=America/Halifax:20240901T100000
DTEND;TZID=America/Halifax:20240901T160000
DTSTAMP:20260421T103532
CREATED:20240719T210642Z
LAST-MODIFIED:20240724T180541Z
UID:16780-1725184800-1725206400@buffalonavalpark.org
SUMMARY:Vietnam Welcome Home Living History Event
DESCRIPTION:The Black Lions 1st ID Vietnam Living History Group will be returning to the Buffalo Naval & Military Park this Labor Day weekend for a Vietnam living history event called “Vietnam Welcome Home.”They will be inside the red Hangar Building on Saturday\, September 2 from 10 AM until 5 PM and Sunday\, September 3 from 10 AM until 4 PM. Vietnam War Living Historians will be present with table displays designed to educate attendees on the uniforms\, equipment and stories of the era.This event is free to the public and is a great opportunity to learn about the Vietnam War and to help support the Naval Park. Planned activities include table displays of military equipment and weapons\, military vehicles\, educational films and opportunities for Vietnam Veterans to speak.The Black Lions is a Living History group in the Western New York area that educates the public on the Vietnam War. The group concentrates on an impression of the 1st U.S. Infantry Division\, 2nd Battalion\, 28th Regiment “Black Lions” B Company Rifle Squad in Vietnam during 1967-1969. The group utilizes hands-on displays of the uniforms\, equipment\, weapons and every day items carried and used by the “Big Red One” Infantry of the Vietnam War.
URL:https://buffalonavalpark.org/event/vietnam-welcome-home-living-history-event-6/
LOCATION:Buffalo Naval Park: Hangar Building\, 1 Naval Park Cove\, Buffalo\, NY\, 14202\, United States
END:VEVENT
BEGIN:VEVENT
DTSTART;TZID=America/Halifax:20240901T130000
DTEND;TZID=America/Halifax:20240901T140000
DTSTAMP:20260421T103532
CREATED:20240701T154432Z
LAST-MODIFIED:20240701T154432Z
UID:16662-1725195600-1725199200@buffalonavalpark.org
SUMMARY:Behind the Scenes Curator Tour
DESCRIPTION:  \n \nJoin the Buffalo Naval and Military Park’s Curator and Director of Museum Collections\, Shane Stephenson\, for a special behind the scenes tour of USS Little Rock\, the last remaining Cleveland-class cruiser in the world. \nThis tour will give an in-depth look at our ships as artifacts and highlight some of the challenges in preserving them for future generations. You’ll visit spaces aboard USS Little Rock and USS The Sullivans that are not available on any other tour\, while also getting an up close look at the main deck of PTF-17. \nEach tour will last approximately 2 hours and will be limited to 11 people. When touring most areas of the ship\, visitors should expect to traverse narrow passageways\, be able to step over significantly raised thresholds\, and climb up and down very steep ladders. We recommend that you wear comfortable clothes\, closed-toe shoes\, and bring a flashlight. Due to the length of the tour and the spaces that will be visited\, this tour is not recommended for those under 11 years of age. \nCurator Tours will take place at 1:00 PM. \nClick here to purchase your tickets!
URL:https://buffalonavalpark.org/event/behind-the-scenes-curator-tour-77/
LOCATION:Buffalo Naval Park\, United States
END:VEVENT
BEGIN:VEVENT
DTSTART;TZID=America/Halifax:20240902T130000
DTEND;TZID=America/Halifax:20240902T150000
DTSTAMP:20260421T103532
CREATED:20240701T154646Z
LAST-MODIFIED:20240701T154646Z
UID:16665-1725282000-1725289200@buffalonavalpark.org
SUMMARY:Behind the Scenes Curator Tour
DESCRIPTION:Join the Buffalo Naval and Military Park’s Curator and Director of Museum Collections\, Shane Stephenson\, for a special behind the scenes tour of USS Little Rock\, the last remaining Cleveland-class cruiser in the world. \nThis tour will give an in-depth look at our ships as artifacts and highlight some of the challenges in preserving them for future generations. You’ll visit spaces aboard USS Little Rock and USS The Sullivans that are not available on any other tour\, while also getting an up close look at the main deck of PTF-17. \nEach tour will last approximately 2 hours and will be limited to 11 people. When touring most areas of the ship\, visitors should expect to traverse narrow passageways\, be able to step over significantly raised thresholds\, and climb up and down very steep ladders. We recommend that you wear comfortable clothes\, closed-toe shoes\, and bring a flashlight. Due to the length of the tour and the spaces that will be visited\, this tour is not recommended for those under 11 years of age. \nCurator Tours will take place at 1:00 PM. \nClick here to purchase your tickets!
URL:https://buffalonavalpark.org/event/behind-the-scenes-curator-tour-78/
LOCATION:Buffalo Naval Park\, United States
END:VEVENT
BEGIN:VEVENT
DTSTART;TZID=America/Halifax:20240906T130000
DTEND;TZID=America/Halifax:20240906T150000
DTSTAMP:20260421T103532
CREATED:20240701T154838Z
LAST-MODIFIED:20240701T154838Z
UID:16668-1725627600-1725634800@buffalonavalpark.org
SUMMARY:Behind the Scenes Curator Tour
DESCRIPTION:Join the Buffalo Naval and Military Park’s Curator and Director of Museum Collections\, Shane Stephenson\, for a special behind the scenes tour of USS Little Rock\, the last remaining Cleveland-class cruiser in the world. \nThis tour will give an in-depth look at our ships as artifacts and highlight some of the challenges in preserving them for future generations. You’ll visit spaces aboard USS Little Rock and USS The Sullivans that are not available on any other tour\, while also getting an up close look at the main deck of PTF-17. \nEach tour will last approximately 2 hours and will be limited to 11 people. When touring most areas of the ship\, visitors should expect to traverse narrow passageways\, be able to step over significantly raised thresholds\, and climb up and down very steep ladders. We recommend that you wear comfortable clothes\, closed-toe shoes\, and bring a flashlight. Due to the length of the tour and the spaces that will be visited\, this tour is not recommended for those under 11 years of age. \nCurator Tours will take place at 1:00 PM. \nClick here to purchase your tickets!
URL:https://buffalonavalpark.org/event/behind-the-scenes-curator-tour-79/
LOCATION:Buffalo Naval Park\, United States
END:VEVENT
BEGIN:VEVENT
DTSTART;TZID=America/Halifax:20240907T130000
DTEND;TZID=America/Halifax:20240907T150000
DTSTAMP:20260421T103532
CREATED:20240701T154958Z
LAST-MODIFIED:20240701T154958Z
UID:16671-1725714000-1725721200@buffalonavalpark.org
SUMMARY:Behind the Scenes Curator Tour
DESCRIPTION:Join the Buffalo Naval and Military Park’s Curator and Director of Museum Collections\, Shane Stephenson\, for a special behind the scenes tour of USS Little Rock\, the last remaining Cleveland-class cruiser in the world. \nThis tour will give an in-depth look at our ships as artifacts and highlight some of the challenges in preserving them for future generations. You’ll visit spaces aboard USS Little Rock and USS The Sullivans that are not available on any other tour\, while also getting an up close look at the main deck of PTF-17. \nEach tour will last approximately 2 hours and will be limited to 11 people. When touring most areas of the ship\, visitors should expect to traverse narrow passageways\, be able to step over significantly raised thresholds\, and climb up and down very steep ladders. We recommend that you wear comfortable clothes\, closed-toe shoes\, and bring a flashlight. Due to the length of the tour and the spaces that will be visited\, this tour is not recommended for those under 11 years of age. \nCurator Tours will take place at 1:00 PM. \nClick here to purchase your tickets!
URL:https://buffalonavalpark.org/event/behind-the-scenes-curator-tour-80/
LOCATION:Buffalo Naval Park\, United States
END:VEVENT
BEGIN:VEVENT
DTSTART;TZID=America/Halifax:20240911T100000
DTEND;TZID=America/Halifax:20240911T170000
DTSTAMP:20260421T103532
CREATED:20240909T162451Z
LAST-MODIFIED:20240909T162451Z
UID:16852-1726048800-1726074000@buffalonavalpark.org
SUMMARY:Closure Alert: 9/11 Day of Service
DESCRIPTION:9/11 Day of Service \nPlease be advised that the Naval Park SHIPS will be CLOSED on Wednesday\, September 11.  \nFor the second year in a row\, the Buffalo Naval Park will host its largest day of volunteerism on Wednesday\, September 11. Around 120 National Grid employees will partake in day-long activities to kick off the 9/11 Day of Service\, including welding\, carpentry work\, removing rust\, running electrical wire\, and painting the historic vessels. \nThey’ll be joined by staff from Highmark Inc. bringing the total number of volunteers to around 150. We are so grateful for their support and look forward to seeing all of the work they accomplish at the Naval Park. \nThe Buffalo Naval Park will host a 9/11 ceremony in the Hangar Building at 11:30 AM that is free and open to the public. The gift shop will remain open from 10:00 AM – 5:00 PM. \n 
URL:https://buffalonavalpark.org/event/day-of-service/
LOCATION:Buffalo Naval Park\, United States
END:VEVENT
BEGIN:VEVENT
DTSTART;TZID=America/Halifax:20240912T130000
DTEND;TZID=America/Halifax:20240912T150000
DTSTAMP:20260421T103532
CREATED:20240701T155142Z
LAST-MODIFIED:20240701T155142Z
UID:16674-1726146000-1726153200@buffalonavalpark.org
SUMMARY:Behind the Scenes Curator Tour
DESCRIPTION:Join the Buffalo Naval and Military Park’s Curator and Director of Museum Collections\, Shane Stephenson\, for a special behind the scenes tour of USS Little Rock\, the last remaining Cleveland-class cruiser in the world. \nThis tour will give an in-depth look at our ships as artifacts and highlight some of the challenges in preserving them for future generations. You’ll visit spaces aboard USS Little Rock and USS The Sullivans that are not available on any other tour\, while also getting an up close look at the main deck of PTF-17. \nEach tour will last approximately 2 hours and will be limited to 11 people. When touring most areas of the ship\, visitors should expect to traverse narrow passageways\, be able to step over significantly raised thresholds\, and climb up and down very steep ladders. We recommend that you wear comfortable clothes\, closed-toe shoes\, and bring a flashlight. Due to the length of the tour and the spaces that will be visited\, this tour is not recommended for those under 11 years of age. \nCurator Tours will take place at 1:00 PM. \nClick here to purchase your tickets!
URL:https://buffalonavalpark.org/event/behind-the-scenes-curator-tour-81/
LOCATION:Buffalo Naval Park\, United States
END:VEVENT
BEGIN:VEVENT
DTSTART;TZID=America/Halifax:20240921T160000
DTEND;TZID=America/Halifax:20240922T100000
DTSTAMP:20260421T103532
CREATED:20240701T161021Z
LAST-MODIFIED:20240701T161730Z
UID:16701-1726934400-1726999200@buffalonavalpark.org
SUMMARY:Overnight Youth Encampment
DESCRIPTION:Spend the night aboard USS Little Rock! Our overnight youth encampment is a unique adventure for scouts\, youth groups\, friends\, and families. \nDuring your overnight encampment\, you will: \n• Sleep in berthing compartments where the real Little Rock crew lived; \n• Enjoy dinner and breakfast in the crew’s Mess Deck; \n• Tour the USS Little Rock\, USS The Sullivans\, and USS Croaker; \n• Participate in educational programs and activities to learn about life onboard ship (educational programs may vary). \nVisit buffalonavalpark.org/overnight for additional information.
URL:https://buffalonavalpark.org/event/overnight-youth-encampment-26/
LOCATION:Buffalo Naval Park\, United States
END:VEVENT
BEGIN:VEVENT
DTSTART;TZID=America/Halifax:20240922T130000
DTEND;TZID=America/Halifax:20240922T150000
DTSTAMP:20260421T103532
CREATED:20240701T155301Z
LAST-MODIFIED:20240701T155301Z
UID:16677-1727010000-1727017200@buffalonavalpark.org
SUMMARY:Behind the Scenes Curator Tour
DESCRIPTION:Join the Buffalo Naval and Military Park’s Curator and Director of Museum Collections\, Shane Stephenson\, for a special behind the scenes tour of USS Little Rock\, the last remaining Cleveland-class cruiser in the world. \nThis tour will give an in-depth look at our ships as artifacts and highlight some of the challenges in preserving them for future generations. You’ll visit spaces aboard USS Little Rock and USS The Sullivans that are not available on any other tour\, while also getting an up close look at the main deck of PTF-17. \nEach tour will last approximately 2 hours and will be limited to 11 people. When touring most areas of the ship\, visitors should expect to traverse narrow passageways\, be able to step over significantly raised thresholds\, and climb up and down very steep ladders. We recommend that you wear comfortable clothes\, closed-toe shoes\, and bring a flashlight. Due to the length of the tour and the spaces that will be visited\, this tour is not recommended for those under 11 years of age. \nCurator Tours will take place at 1:00 PM. \nClick here to purchase your tickets!
URL:https://buffalonavalpark.org/event/behind-the-scenes-curator-tour-82/
LOCATION:Buffalo Naval Park\, United States
END:VEVENT
BEGIN:VEVENT
DTSTART;TZID=America/Halifax:20240928T120000
DTEND;TZID=America/Halifax:20240928T160000
DTSTAMP:20260421T103532
CREATED:20240913T145710Z
LAST-MODIFIED:20240913T145710Z
UID:16861-1727524800-1727539200@buffalonavalpark.org
SUMMARY:Goya brings Latin Flavor to Naval Park
DESCRIPTION:The Buffalo Naval & Military Park is excited to host representatives from Goya and the Hispanic Heritage Council of WNY in the Hangar Building on Saturday\, September 28 from 12:00-4:00 PM for an afternoon of food\, music\, art\, dance\, and more! It’s FREE and fun for the whole family. \n 
URL:https://buffalonavalpark.org/event/goya-brings-latin-flavor-to-naval-park/
LOCATION:Buffalo Naval Park: Hangar Building\, 1 Naval Park Cove\, Buffalo\, NY\, 14202\, United States
END:VEVENT
BEGIN:VEVENT
DTSTART;TZID=America/Halifax:20240928T160000
DTEND;TZID=America/Halifax:20240929T100000
DTSTAMP:20260421T103532
CREATED:20240701T161157Z
LAST-MODIFIED:20240701T161647Z
UID:16707-1727539200-1727604000@buffalonavalpark.org
SUMMARY:Overnight Youth Encampment
DESCRIPTION:Spend the night aboard USS Little Rock! Our overnight youth encampment is a unique adventure for scouts\, youth groups\, friends\, and families. \nDuring your overnight encampment\, you will: \n• Sleep in berthing compartments where the real Little Rock crew lived; \n• Enjoy dinner and breakfast in the crew’s Mess Deck; \n• Tour the USS Little Rock\, USS The Sullivans\, and USS Croaker; \n• Participate in educational programs and activities to learn about life onboard ship (educational programs may vary). \nVisit buffalonavalpark.org/overnight for additional information.
URL:https://buffalonavalpark.org/event/overnight-youth-encampment-34/
LOCATION:Buffalo Naval Park\, United States
END:VEVENT
BEGIN:VEVENT
DTSTART;TZID=America/Halifax:20240929T130000
DTEND;TZID=America/Halifax:20240929T150000
DTSTAMP:20260421T103532
CREATED:20240701T155430Z
LAST-MODIFIED:20240701T155430Z
UID:16680-1727614800-1727622000@buffalonavalpark.org
SUMMARY:Behind the Scenes Curator Tour
DESCRIPTION:Join the Buffalo Naval and Military Park’s Curator and Director of Museum Collections\, Shane Stephenson\, for a special behind the scenes tour of USS Little Rock\, the last remaining Cleveland-class cruiser in the world. \nThis tour will give an in-depth look at our ships as artifacts and highlight some of the challenges in preserving them for future generations. You’ll visit spaces aboard USS Little Rock and USS The Sullivans that are not available on any other tour\, while also getting an up close look at the main deck of PTF-17. \nEach tour will last approximately 2 hours and will be limited to 11 people. When touring most areas of the ship\, visitors should expect to traverse narrow passageways\, be able to step over significantly raised thresholds\, and climb up and down very steep ladders. We recommend that you wear comfortable clothes\, closed-toe shoes\, and bring a flashlight. Due to the length of the tour and the spaces that will be visited\, this tour is not recommended for those under 11 years of age. \nCurator Tours will take place at 1:00 PM. \nClick here to purchase your tickets!
URL:https://buffalonavalpark.org/event/behind-the-scenes-curator-tour-83/
LOCATION:Buffalo Naval Park\, United States
END:VEVENT
END:VCALENDAR