BEGIN:VCALENDAR
VERSION:2.0
PRODID:-//Buffalo Naval Park - ECPv6.15.17.1//NONSGML v1.0//EN
CALSCALE:GREGORIAN
METHOD:PUBLISH
X-WR-CALNAME:Buffalo Naval Park
X-ORIGINAL-URL:https://buffalonavalpark.org
X-WR-CALDESC:Events for Buffalo Naval Park
REFRESH-INTERVAL;VALUE=DURATION:PT1H
X-Robots-Tag:noindex
X-PUBLISHED-TTL:PT1H
BEGIN:VTIMEZONE
TZID:America/Halifax
BEGIN:DAYLIGHT
TZOFFSETFROM:-0400
TZOFFSETTO:-0300
TZNAME:ADT
DTSTART:20220313T060000
END:DAYLIGHT
BEGIN:STANDARD
TZOFFSETFROM:-0300
TZOFFSETTO:-0400
TZNAME:AST
DTSTART:20221106T050000
END:STANDARD
BEGIN:DAYLIGHT
TZOFFSETFROM:-0400
TZOFFSETTO:-0300
TZNAME:ADT
DTSTART:20230312T060000
END:DAYLIGHT
BEGIN:STANDARD
TZOFFSETFROM:-0300
TZOFFSETTO:-0400
TZNAME:AST
DTSTART:20231105T050000
END:STANDARD
BEGIN:DAYLIGHT
TZOFFSETFROM:-0400
TZOFFSETTO:-0300
TZNAME:ADT
DTSTART:20240310T060000
END:DAYLIGHT
BEGIN:STANDARD
TZOFFSETFROM:-0300
TZOFFSETTO:-0400
TZNAME:AST
DTSTART:20241103T050000
END:STANDARD
END:VTIMEZONE
BEGIN:VEVENT
DTSTART;TZID=America/Halifax:20231007T130000
DTEND;TZID=America/Halifax:20231007T150000
DTSTAMP:20260421T122920
CREATED:20230131T150048Z
LAST-MODIFIED:20230131T150048Z
UID:14255-1696683600-1696690800@buffalonavalpark.org
SUMMARY:Behind the Scenes Curator Tour
DESCRIPTION:Join the Buffalo Naval & Military Park’s Curator and Director of Museum Collections\, Shane Stephenson\, for a special behind the scenes tour of USS Little Rock. \nThis tour will give an in-depth look at our collections and highlight some of the challenges in preserving these important artifacts for future generations. Visit spaces on board the USS Little Rock that are not available on any of our other tours. \nEach tour will last approximately 2 hours and will be limited to 11 people. When touring most areas of the ship\, visitors should expect to traverse narrow passageways\, be able to step over significantly raised thresholds\, and climb up and down very steep ladders. We recommend that you wear comfortable clothes\, closed-toe shoes\, and bring a flashlight. Due to the length of the tour and the spaces that will be visited\, this tour is not recommended for those under 11 years of age. \nCurator Tours will take place at 1:00 PM. \nClick here to purchase your tickets!
URL:https://buffalonavalpark.org/event/behind-the-scenes-curator-tour-34/
LOCATION:Buffalo Naval Park\, United States
END:VEVENT
BEGIN:VEVENT
DTSTART;TZID=America/Halifax:20231007T160000
DTEND;TZID=America/Halifax:20231008T100000
DTSTAMP:20260421T122920
CREATED:20230713T204415Z
LAST-MODIFIED:20230713T204415Z
UID:15125-1696694400-1696759200@buffalonavalpark.org
SUMMARY:Overnight Youth Encampment
DESCRIPTION:Spend the night aboard USS Little Rock! Our overnight youth encampment is a unique adventure for scouts\, youth groups\, friends\, and families. \nDuring your overnight encampment\, you will: \n• Sleep in berthing compartments where the real Little Rock crew lived; \n• Enjoy dinner and breakfast in the crew’s Mess Deck; \n• Tour the USS Little Rock\, USS The Sullivans\, and USS Croaker; \n• Participate in educational programs and activities to learn about life onboard ship (educational programs may vary). \nVisit buffalonavalpark.org/overnight for additional information.
URL:https://buffalonavalpark.org/event/overnight-youth-encampment-15/
LOCATION:Buffalo Naval Park\, United States
END:VEVENT
BEGIN:VEVENT
DTSTART;TZID=America/Halifax:20231014T160000
DTEND;TZID=America/Halifax:20231015T100000
DTSTAMP:20260421T122920
CREATED:20230713T204620Z
LAST-MODIFIED:20230713T204620Z
UID:15128-1697299200-1697364000@buffalonavalpark.org
SUMMARY:Overnight Youth Encampment
DESCRIPTION:Spend the night aboard USS Little Rock! Our overnight youth encampment is a unique adventure for scouts\, youth groups\, friends\, and families. \nDuring your overnight encampment\, you will: \n• Sleep in berthing compartments where the real Little Rock crew lived; \n• Enjoy dinner and breakfast in the crew’s Mess Deck; \n• Tour the USS Little Rock\, USS The Sullivans\, and USS Croaker; \n• Participate in educational programs and activities to learn about life onboard ship (educational programs may vary). \nVisit buffalonavalpark.org/overnight for additional information.
URL:https://buffalonavalpark.org/event/overnight-youth-encampment-16/
LOCATION:Buffalo Naval Park\, United States
END:VEVENT
BEGIN:VEVENT
DTSTART;TZID=America/Halifax:20231021T130000
DTEND;TZID=America/Halifax:20231021T150000
DTSTAMP:20260421T122920
CREATED:20230131T150230Z
LAST-MODIFIED:20230131T150230Z
UID:14258-1697893200-1697900400@buffalonavalpark.org
SUMMARY:Behind the Scenes Curator Tour
DESCRIPTION:Join the Buffalo Naval & Military Park’s Curator and Director of Museum Collections\, Shane Stephenson\, for a special behind the scenes tour of USS Little Rock. \nThis tour will give an in-depth look at our collections and highlight some of the challenges in preserving these important artifacts for future generations. Visit spaces on board the USS Little Rock that are not available on any of our other tours. \nEach tour will last approximately 2 hours and will be limited to 11 people. When touring most areas of the ship\, visitors should expect to traverse narrow passageways\, be able to step over significantly raised thresholds\, and climb up and down very steep ladders. We recommend that you wear comfortable clothes\, closed-toe shoes\, and bring a flashlight. Due to the length of the tour and the spaces that will be visited\, this tour is not recommended for those under 11 years of age. \nCurator Tours will take place at 1:00 PM. \nClick here to purchase your tickets!
URL:https://buffalonavalpark.org/event/behind-the-scenes-curator-tour-35/
LOCATION:Buffalo Naval Park\, United States
END:VEVENT
BEGIN:VEVENT
DTSTART;TZID=America/Halifax:20231021T160000
DTEND;TZID=America/Halifax:20231022T100000
DTSTAMP:20260421T122920
CREATED:20230713T204813Z
LAST-MODIFIED:20230713T204813Z
UID:15131-1697904000-1697968800@buffalonavalpark.org
SUMMARY:Overnight Youth Encampment
DESCRIPTION:Spend the night aboard USS Little Rock! Our overnight youth encampment is a unique adventure for scouts\, youth groups\, friends\, and families. \nDuring your overnight encampment\, you will: \n• Sleep in berthing compartments where the real Little Rock crew lived; \n• Enjoy dinner and breakfast in the crew’s Mess Deck; \n• Tour the USS Little Rock\, USS The Sullivans\, and USS Croaker; \n• Participate in educational programs and activities to learn about life onboard ship (educational programs may vary). \nVisit buffalonavalpark.org/overnight for additional information.
URL:https://buffalonavalpark.org/event/overnight-youth-encampment-17/
LOCATION:Buffalo Naval Park\, United States
END:VEVENT
BEGIN:VEVENT
DTSTART;TZID=America/Halifax:20231028T120000
DTEND;TZID=America/Halifax:20231028T150000
DTSTAMP:20260421T122920
CREATED:20230915T193156Z
LAST-MODIFIED:20231010T143545Z
UID:15241-1698494400-1698505200@buffalonavalpark.org
SUMMARY:Ship or Treat
DESCRIPTION:Celebrate Halloween at the Buffalo Naval & Military Park! Wear your costume and “Ship-or-Treat” aboard USS The Sullivans\, USS Little Rock\, and USS Croaker to participate in family activities and collect Halloween goodies. Admission to the Naval Park is included in the ticket price. This event is designed for children ages 15 and under. \nThe Naval Park will be open from 10:00 AM – 4:00 PM\, with last admission at 3:00 PM. The Ship or Treat activities will be available between 12:00 PM – 3:00 PM. \nPlease purchase a Ship or Treat ticket only for those who wish to participate in the activities and Halloween goodies. All other guests can purchase a general admission ticket. All children ages 16 and under must be accompanied by an adult. \nWhen touring most areas of the ships\, visitors should expect to traverse narrow passageways\, be able to step over significantly raised thresholds\, and climb up and down very steep ladders. If you choose to wear a costume\, please ensure that it is family friendly and fits properly to help prevent trips and falls. Please avoid items such as oversized shoes\, high heels\, and long capes. Click here to purchase your tickets!
URL:https://buffalonavalpark.org/event/ship-or-treat/
LOCATION:Buffalo Naval Park\, United States
END:VEVENT
BEGIN:VEVENT
DTSTART;TZID=America/Halifax:20231028T170000
DTEND;TZID=America/Halifax:20231028T193000
DTSTAMP:20260421T122920
CREATED:20231010T143341Z
LAST-MODIFIED:20231010T145220Z
UID:15275-1698512400-1698521400@buffalonavalpark.org
SUMMARY:The Twilight Zone Military Marathon
DESCRIPTION:Join us for a special Twilight Zone marathon featuring four military-themed episodes: Judgment Night\, The Purple Testament\, Deaths-Hand Revisited\, and He’s Alive. The screening will take place aboard USS Little Rock on Saturday\, October 28. Doors open at 5:00 PM\, and the episodes will begin immediately following a pre-film presentation at 5:30 PM. \nThis event is free to attend but a ticket is REQUIRED as space is very limited. \nMovie-style concessions will be available for purchase. \nWe regret that due to the historical nature of the ships\, handicap access is limited. For more information\, please email steven@buffalonavalpark.org or call 716-847-1773\, ext. 18.
URL:https://buffalonavalpark.org/event/the-twilight-zone/
LOCATION:Buffalo Naval Park\, United States
END:VEVENT
END:VCALENDAR