BEGIN:VCALENDAR
VERSION:2.0
PRODID:-//Buffalo Naval Park - ECPv6.15.17.1//NONSGML v1.0//EN
CALSCALE:GREGORIAN
METHOD:PUBLISH
X-WR-CALNAME:Buffalo Naval Park
X-ORIGINAL-URL:https://buffalonavalpark.org
X-WR-CALDESC:Events for Buffalo Naval Park
REFRESH-INTERVAL;VALUE=DURATION:PT1H
X-Robots-Tag:noindex
X-PUBLISHED-TTL:PT1H
BEGIN:VTIMEZONE
TZID:UTC
BEGIN:STANDARD
TZOFFSETFROM:+0000
TZOFFSETTO:+0000
TZNAME:UTC
DTSTART:20200101T000000
END:STANDARD
END:VTIMEZONE
BEGIN:VEVENT
DTSTART;VALUE=DATE:20210308
DTEND;VALUE=DATE:20210503
DTSTAMP:20260421T083126
CREATED:20210308T165007Z
LAST-MODIFIED:20210308T180343Z
UID:11429-1615161600-1619999999@buffalonavalpark.org
SUMMARY:Mother's Day Online Geranium Sale: Pre-Order Only
DESCRIPTION:The Buffalo and Erie County Naval & Military Park is hosting an online geranium sale just in time for spring and Mother’s Day. Three-inch pots of patriot red\, white\, or lavender blue geraniums are available for $2.50 per plant or $45 per flat (20 plants). Twelve-inch hanging baskets of red geraniums with a spike in the middle are available for $25 each. All flowers are supplied by Agle Farm. Flats can be customized to include 2 or 3 colors. Choose the “Create Your Own Flat” option and then indicate the total quantity of each color you want in the check out page (total must equal 20 per flat). Pre-sale Only; Orders are due by Monday\, May 3. Curbside pick-up will be available at the Buffalo Naval Park on Friday\, May 7 from 1pm to 5pm and Saturday\, May 8 from 10am to 3pm. Flowers must be picked up in person. If you are unable to pick up your flowers\, you may designate someone to pick them up on your behalf. No flowers will be shipped. If you would like to order over the phone\, please call 716-847-1773\, ext. 10. All sales are final. We appreciate your support! Purchase flowers here to support the Buffalo Naval Park!
URL:https://buffalonavalpark.org/event/mothers-day-geranium-sale/
LOCATION:Buffalo Naval Park\, United States
END:VEVENT
BEGIN:VEVENT
DTSTART;TZID=UTC:20210325T120000
DTEND;TZID=UTC:20210325T130000
DTSTAMP:20260421T083126
CREATED:20210308T210226Z
LAST-MODIFIED:20210312T150334Z
UID:11457-1616673600-1616677200@buffalonavalpark.org
SUMMARY:Virtual Speaker Series: Dr. Mary Walker's Civil War with Dr. Theresa Kaminski
DESCRIPTION:On National Medal of Honor Day\, join the Buffalo Naval Park for a virtual lunchtime talk about Dr. Mary Walker. Born in Oswego\, NY in 1832\, Walker overcame many social and political obstacles to become a surgeon during the Civil War\, and is the only woman to receive the Medal of Honor. Dr. Theresa Kaminski will talk about her book\, “Dr. Mary Walker’s Civil War: One Woman’s Journey to the Medal of Honor and the Fight for Women’s Rights.” \nPre-registration is required for this FREE event.  \nParticipants will receive an email with a link to join the videoconference via Zoom. Click the link to join the meeting. You may be prompted to download Zoom\, which will take just a few moments to complete. \nYou will need a computer with a decent internet connection and speakers\, ideally equipped with a webcam and a microphone. You will be able to test your audio and video settings ahead of time if you would like. \nInterested in getting a copy of Dr. Mary Walker’s Civil War for your home library? Buy your copy through Talking Leaves Books and support one of Buffalo’s favorite independent bookstores. Just follow this link. \nQuestions? Please contact the Buffalo Naval Park at education@buffalonavalpark.org. \nPlease follow this link to register.  \n 
URL:https://buffalonavalpark.org/event/virtual-speaker-series-dr-mary-walkers-civil-war-with-dr-theresa-kaminski/
LOCATION:NY
END:VEVENT
BEGIN:VEVENT
DTSTART;TZID=UTC:20210329T100000
DTEND;TZID=UTC:20210329T103000
DTSTAMP:20260421T083126
CREATED:20210326T164129Z
LAST-MODIFIED:20210326T192927Z
UID:11539-1617012000-1617013800@buffalonavalpark.org
SUMMARY:National Vietnam War Veterans Day Ceremony
DESCRIPTION:On March 29\, the Buffalo Naval Park will host a ceremony near the Vietnam War Memorial at 10 AM to honor National Vietnam War Veterans Day. \nThis outdoor event is free and open to the public. Masks and social distancing will be required. \n 
URL:https://buffalonavalpark.org/event/national-vietnam-war-veterans-day-ceremony/
LOCATION:Buffalo Naval Park's Monuments Garden\, 1 Naval Park Cove\, Buffalo\, NY\, 14202\, United States
END:VEVENT
END:VCALENDAR