BEGIN:VCALENDAR
VERSION:2.0
PRODID:-//Buffalo Naval Park - ECPv6.15.17.1//NONSGML v1.0//EN
CALSCALE:GREGORIAN
METHOD:PUBLISH
X-WR-CALNAME:Buffalo Naval Park
X-ORIGINAL-URL:https://buffalonavalpark.org
X-WR-CALDESC:Events for Buffalo Naval Park
REFRESH-INTERVAL;VALUE=DURATION:PT1H
X-Robots-Tag:noindex
X-PUBLISHED-TTL:PT1H
BEGIN:VTIMEZONE
TZID:UTC
BEGIN:STANDARD
TZOFFSETFROM:+0000
TZOFFSETTO:+0000
TZNAME:UTC
DTSTART:20190101T000000
END:STANDARD
END:VTIMEZONE
BEGIN:VEVENT
DTSTART;TZID=UTC:20201212T150000
DTEND;TZID=UTC:20201212T150000
DTSTAMP:20260421T164742
CREATED:20201120T211314Z
LAST-MODIFIED:20201125T211848Z
UID:11223-1607785200-1607785200@buffalonavalpark.org
SUMMARY:Army-Navy Game Raffle
DESCRIPTION:  \n \nThe Buffalo & Erie County Naval & Military Park is hosting a raffle in honor of the Army-Navy Game on December 12. \nFirst Prize: Win $100 in Gift Cards plus a Family Membership \nSecond Prize: Win $50 in Gift Cards plus an Individual Membership \nThird Prize: Win $25 in Gift Cards plus an Individual Membership \nTickets are available for a $10 donation (plus a $1 service charge). To enter\, choose a Navy and/or Army ticket. You will receive one entry for each $10 donation and can purchase multiple tickets for each team if you wish. Winners will be chosen from the winning team’s ticket entries. \nTickets will be available until 3pm on December 12. The drawing will be held immediately after the game and the winners will be posted on our Facebook page and notified by email. \nA special thanks to the Buffalo Naval & Military Park board members for sponsoring the prizes. Gift cards will be from Amazon and/or Visa. \nPurchase your tickets here! \n  \n*If the game is cancelled or postponed\, we will pool all of the entries together and draw the winners on December 12.
URL:https://buffalonavalpark.org/event/army-navy-game-rival-raffle/
LOCATION:NY
END:VEVENT
END:VCALENDAR