BEGIN:VCALENDAR
VERSION:2.0
PRODID:-//Buffalo Naval Park - ECPv6.15.17.1//NONSGML v1.0//EN
CALSCALE:GREGORIAN
METHOD:PUBLISH
X-ORIGINAL-URL:https://buffalonavalpark.org
X-WR-CALDESC:Events for Buffalo Naval Park
REFRESH-INTERVAL;VALUE=DURATION:PT1H
X-Robots-Tag:noindex
X-PUBLISHED-TTL:PT1H
BEGIN:VTIMEZONE
TZID:UTC
BEGIN:STANDARD
TZOFFSETFROM:+0000
TZOFFSETTO:+0000
TZNAME:UTC
DTSTART:20190101T000000
END:STANDARD
END:VTIMEZONE
BEGIN:VEVENT
DTSTART;TZID=UTC:20201013T184500
DTEND;TZID=UTC:20201013T200000
DTSTAMP:20260421T194821
CREATED:20200921T154548Z
LAST-MODIFIED:20200921T174235Z
UID:10943-1602614700-1602619200@buffalonavalpark.org
SUMMARY:Virtual Paint and Draw Night
DESCRIPTION:In celebration of the Navy’s birthday\, we invite veterans to join a virtual tour of maritime-themed artworks and an artmaking experience presented by the Albright-Knox and the Buffalo & Erie County Naval & Military Park. Participants will learn some introductory drawing and painting skills that center around the power of nature and the beauty of the sea\, inspired by Sandra Cinto’s Tempest in Red\, 2009\, and other works from the Albright-Knox’s collection. Artists of all levels of experience are welcome. Bring a pencil\, pen\, or whatever you like to draw with; some watercolors\, markers\, or crayons for painting or coloring; and some paper. \nSpace is limited and pre-registration is required. To register\, please contact Access and Community Programs Coordinator Karen Duval at kduval@albrightknox.org. Once registered\, you will receive an email with details on how to join the event and a list of recommended materials for the artmaking activity. \nFor additional information\, visit Albright-Knox Virtual Vets AK: Draw and Paint Night.
URL:https://buffalonavalpark.org/event/virtual-paint-and-draw-night/
LOCATION:NY
END:VEVENT
BEGIN:VEVENT
DTSTART;TZID=UTC:20201024T090000
DTEND;TZID=UTC:20201024T150000
DTSTAMP:20260421T194821
CREATED:20201015T190757Z
LAST-MODIFIED:20201015T205343Z
UID:11070-1603530000-1603551600@buffalonavalpark.org
SUMMARY:Fall Family Photoshoot
DESCRIPTION:Looking for a unique backdrop for your family photos? We’re opening up some of our most popular spots at the Buffalo Naval & Military Park just for you! \nEach ticket includes one 20 minute appointment with a local photographer at multiple locations at the Park and at least 10 digital images emailed to you. Locations include the deck of the USS Croaker\, the forecastle (forward deck) of the USS Little Rock\, and near the Vietnam Veterans Monument. Locations may be modified for time and/or accessibility limitations. Tours of the ships will not be available. \nPhotos can include any number of people and there is no limit on the number of photos taken. Your appointment time is yours alone and will be strictly enforced. Your group will be the only one in your selected timeslot to ensure everyone’s safety. The photographer will be masked\, hand sanitizer stations will be available\, and spaces will be sanitized in between families. \nMembers save $5 per appointment. \nClick here to purchase your ticket!
URL:https://buffalonavalpark.org/event/fall-family-photoshoot/
LOCATION:Buffalo Naval Park\, United States
ATTACH;FMTTYPE=image/png:https://buffalonavalpark.org/wp-content/uploads/2020/10/20201015_163755_0000-e1602795181407.png
END:VEVENT
END:VCALENDAR