BEGIN:VCALENDAR
VERSION:2.0
PRODID:-//Buffalo Naval Park - ECPv6.15.17.1//NONSGML v1.0//EN
CALSCALE:GREGORIAN
METHOD:PUBLISH
X-WR-CALNAME:Buffalo Naval Park
X-ORIGINAL-URL:https://buffalonavalpark.org
X-WR-CALDESC:Events for Buffalo Naval Park
REFRESH-INTERVAL;VALUE=DURATION:PT1H
X-Robots-Tag:noindex
X-PUBLISHED-TTL:PT1H
BEGIN:VTIMEZONE
TZID:UTC
BEGIN:STANDARD
TZOFFSETFROM:+0000
TZOFFSETTO:+0000
TZNAME:UTC
DTSTART:20190101T000000
END:STANDARD
END:VTIMEZONE
BEGIN:VEVENT
DTSTART;TZID=UTC:20200815T120000
DTEND;TZID=UTC:20200815T160000
DTSTAMP:20260421T222925
CREATED:20200125T173524Z
LAST-MODIFIED:20200810T183256Z
UID:9088-1597492800-1597507200@buffalonavalpark.org
SUMMARY:World War II Remembrance Day
DESCRIPTION:This year is incredibly special\, as we will be commemorating the 75th Anniversary of the End of World War II. On August 15\, 2020\, the Buffalo Naval & Military Park will honor World War II Remembrance Day with a series of Deck Talks by Shane Stephenson\, our Director of Museum Collections! \nThe Deck Talks will take place aboard the USS Croaker. Visitors can listen at a safe distance from the promenade in the Monuments Garden. The talks will take place at 12:00pm\, 1:00pm\, 2:00pm\, and 3:00pm. \n \n  \n 
URL:https://buffalonavalpark.org/event/wwii-remembrance-day/
LOCATION:Buffalo Naval Park\, United States
END:VEVENT
BEGIN:VEVENT
DTSTART;VALUE=DATE:20200826
DTEND;VALUE=DATE:20200827
DTSTAMP:20260421T222925
CREATED:20200124T172457Z
LAST-MODIFIED:20200831T195145Z
UID:9083-1598400000-1598486399@buffalonavalpark.org
SUMMARY:Virtual Ship N' Shore
DESCRIPTION:We are disappointed that we won’t be able to celebrate with everyone in person this year\, but we hope you will consider making a donation to the Buffalo & Erie County Naval & Military Park to help us stay afloat. We welcome and appreciate your support no matter the dollar amount. \n \nThe Buffalo Naval & Military Park has launched an All Hands On Deck campaign to help raise much needed funds. Purchase a limited edition\, individually numbered Challenge Coin for $100 each. Coins will be shipped via the United States Postal Service and each coin comes with a Certificate of Authenticity. \nClick here to learn about the All Hands On Deck campaign and purchase a Challenge Coin to support the Buffalo Naval & Military Park. \n 
URL:https://buffalonavalpark.org/event/ship-n-shore/
LOCATION:NY
END:VEVENT
END:VCALENDAR