BEGIN:VCALENDAR
VERSION:2.0
PRODID:-//Buffalo Naval Park - ECPv6.15.17.1//NONSGML v1.0//EN
CALSCALE:GREGORIAN
METHOD:PUBLISH
X-ORIGINAL-URL:https://buffalonavalpark.org
X-WR-CALDESC:Events for Buffalo Naval Park
REFRESH-INTERVAL;VALUE=DURATION:PT1H
X-Robots-Tag:noindex
X-PUBLISHED-TTL:PT1H
BEGIN:VTIMEZONE
TZID:UTC
BEGIN:STANDARD
TZOFFSETFROM:+0000
TZOFFSETTO:+0000
TZNAME:UTC
DTSTART:20180101T000000
END:STANDARD
END:VTIMEZONE
BEGIN:VEVENT
DTSTART;TZID=UTC:20190518T130000
DTEND;TZID=UTC:20190518T160000
DTSTAMP:20260422T195518
CREATED:20190306T180814Z
LAST-MODIFIED:20200303T204158Z
UID:7837-1558184400-1558195200@buffalonavalpark.org
SUMMARY:Toast to the Troops 2019- Armed Forces Week
DESCRIPTION:Come celebrate Armed Forces Week at a Fundraiser and Celebration for the Buffalo Naval Park! Join us at Flying Bison Brewery for an afternoon of live music\, an auction\, and door prizes! First beer FREE for all Veterans! \nEntrance to event is free and open to the public- no ticket purchase necessary! \nSaturday\, May 18\n1:00 pm to 4:00 pm\nFlying Bison Brewery
URL:https://buffalonavalpark.org/event/toast-to-the-troops-2019-armed-forces-week/
LOCATION:NY
END:VEVENT
BEGIN:VEVENT
DTSTART;VALUE=DATE:20190520
DTEND;VALUE=DATE:20190525
DTSTAMP:20260422T195518
CREATED:20190507T203412Z
LAST-MODIFIED:20190507T203412Z
UID:7959-1558310400-1558742399@buffalonavalpark.org
SUMMARY:USS Little Rock Association Working Party
DESCRIPTION:From May 20th through May 24th\, retired crewmen of the USS Little Rock and their families will reunite with their former home. The Little Rock sailors\, and sailors from her sister-ships\, sleep aboard the Light Cruiser and help out with maintenance projects to keep her “shipshape.”
URL:https://buffalonavalpark.org/event/uss-little-rock-association-working-party/
LOCATION:Buffalo Naval Park\, United States
END:VEVENT
END:VCALENDAR