BEGIN:VCALENDAR
VERSION:2.0
PRODID:-//Buffalo Naval Park - ECPv6.15.17.1//NONSGML v1.0//EN
CALSCALE:GREGORIAN
METHOD:PUBLISH
X-ORIGINAL-URL:https://buffalonavalpark.org
X-WR-CALDESC:Events for Buffalo Naval Park
REFRESH-INTERVAL;VALUE=DURATION:PT1H
X-Robots-Tag:noindex
X-PUBLISHED-TTL:PT1H
BEGIN:VTIMEZONE
TZID:UTC
BEGIN:STANDARD
TZOFFSETFROM:+0000
TZOFFSETTO:+0000
TZNAME:UTC
DTSTART:20180101T000000
END:STANDARD
END:VTIMEZONE
BEGIN:VEVENT
DTSTART;TZID=UTC:20190318T173000
DTEND;TZID=UTC:20190318T190000
DTSTAMP:20260422T225309
CREATED:20190306T163516Z
LAST-MODIFIED:20200303T204212Z
UID:7820-1552930200-1552935600@buffalonavalpark.org
SUMMARY:We Stick Together Lecture with Kelly Sullivan
DESCRIPTION:Kelly Sullivan\, granddaughter of Albert Sullivan\, will be speaking at the Buffalo Naval Park!\nJoin us Monday\, March 18th at 5:30 PM\n2nd Floor Museum Building\nCelebrate St Patrick’s Day\, Irish Heritage\, Sullivans Pride\, and the Anniversary of the Recovery of the USS Juneau\nLight Refreshments Provided \nAre you a Buffalo Naval Park Member? If so\, come to the Exclusive Member’s Only MEET AND GREET with Kelly from 4:00pm to 5:00pm.
URL:https://buffalonavalpark.org/event/we-stick-together-lecture-with-kelly-sullivan/
LOCATION:Buffalo Naval Park\, United States
END:VEVENT
BEGIN:VEVENT
DTSTART;TZID=UTC:20190330T120000
DTEND;TZID=UTC:20190330T140000
DTSTAMP:20260422T225309
CREATED:20190306T163825Z
LAST-MODIFIED:20190306T163825Z
UID:7828-1553947200-1553954400@buffalonavalpark.org
SUMMARY:Park Opening & Celebration of 40th Season!
DESCRIPTION:2019 Season Opening & 40th Birthday!\nSaturday\, March 30th\n12:00 pm\n2nd Floor Museum Building\nThis year\, the Park celebrates its 40th Birthday! Come down to the Naval Park at 12pm on Saturday\, March 30th to join us in the celebration! Ceremony will be located on the 2nd floor of the museum building\, followed by cake and light refreshments! Everyone is welcome!
URL:https://buffalonavalpark.org/event/park-opening-celebration-of-40th-season/
LOCATION:Buffalo Naval Park\, United States
END:VEVENT
END:VCALENDAR