BEGIN:VCALENDAR
VERSION:2.0
PRODID:-//Buffalo Naval Park - ECPv6.15.17.1//NONSGML v1.0//EN
CALSCALE:GREGORIAN
METHOD:PUBLISH
X-WR-CALNAME:Buffalo Naval Park
X-ORIGINAL-URL:https://buffalonavalpark.org
X-WR-CALDESC:Events for Buffalo Naval Park
REFRESH-INTERVAL;VALUE=DURATION:PT1H
X-Robots-Tag:noindex
X-PUBLISHED-TTL:PT1H
BEGIN:VTIMEZONE
TZID:UTC
BEGIN:STANDARD
TZOFFSETFROM:+0000
TZOFFSETTO:+0000
TZNAME:UTC
DTSTART:20170101T000000
END:STANDARD
END:VTIMEZONE
BEGIN:VEVENT
DTSTART;TZID=UTC:20181005T190000
DTEND;TZID=UTC:20181027T220000
DTSTAMP:20260423T061416
CREATED:20181003T172316Z
LAST-MODIFIED:20181003T172316Z
UID:7469-1538766000-1540677600@buffalonavalpark.org
SUMMARY:Paranormal Buffalo Tour
DESCRIPTION:Buffalo History Tours presents Paranormal Buffalo! \nDo You Believe in Ghosts?\nBuffalo History Tours has gathered all the best evidence of ghosts and paranormal activity in Buffalo to share with you in a multi-media presentation that will amaze\, and quite possibly\, make you believe in ghosts!  During this spine tingling tour you’ll visit two pubs plus we’ll board the ships at the Naval Park–Buffalo’s #1 haunted location! \nPerformances are about two hours long and cost $25 per person.  These seasonal tours operate in October only and are offered on Thursday and Friday evenings at 7 PM and Saturdays at 8 PM. \nFor complete information on the event schedule\, ticket costs and departure location\, visit https://www.buffalodoubledeckerbus.com/buffalo-ghost-tour \n 
URL:https://buffalonavalpark.org/event/paranormal-buffalo-tour/
LOCATION:Buffalo Naval Park\, United States
END:VEVENT
END:VCALENDAR