BEGIN:VCALENDAR
VERSION:2.0
PRODID:-//Buffalo Naval Park - ECPv6.15.17.1//NONSGML v1.0//EN
CALSCALE:GREGORIAN
METHOD:PUBLISH
X-WR-CALNAME:Buffalo Naval Park
X-ORIGINAL-URL:https://buffalonavalpark.org
X-WR-CALDESC:Events for Buffalo Naval Park
REFRESH-INTERVAL;VALUE=DURATION:PT1H
X-Robots-Tag:noindex
X-PUBLISHED-TTL:PT1H
BEGIN:VTIMEZONE
TZID:UTC
BEGIN:STANDARD
TZOFFSETFROM:+0000
TZOFFSETTO:+0000
TZNAME:UTC
DTSTART:20160101T000000
END:STANDARD
END:VTIMEZONE
BEGIN:VEVENT
DTSTART;TZID=UTC:20170911T084000
DTEND;TZID=UTC:20170911T091500
DTSTAMP:20260424T004224
CREATED:20170119T145413Z
LAST-MODIFIED:20170907T132900Z
UID:5709-1505119200-1505121300@buffalonavalpark.org
SUMMARY:9-11 Remembrance
DESCRIPTION:Location: Outside near the Rotary Flag Pole (weather permitting) \nAlternate inside site – Hangar Bldg.
URL:https://buffalonavalpark.org/event/9-11-remembrance-2/
LOCATION:Buffalo Naval Park\, United States
CATEGORIES:Buffalo Naval Park
END:VEVENT
BEGIN:VEVENT
DTSTART;VALUE=DATE:20170920
DTEND;VALUE=DATE:20170925
DTSTAMP:20260424T004224
CREATED:20170711T021542Z
LAST-MODIFIED:20170724T133749Z
UID:6207-1505865600-1506297599@buffalonavalpark.org
SUMMARY:USS The Sullivans DD-537/DDG-68 Association Reunion
DESCRIPTION:For more information\, contact: \nHal Burke ☘⚓ \nUSS The Sullivans DD-537/DDG-68 Association…“We Stick Together” \nHosts-2017 Reunion\, Buffalo\, NY \n708-387-7779 \nSullyDD-537@att.net
URL:https://buffalonavalpark.org/event/uss-sullivans-dd-537ddg-68-association-reunion/
LOCATION:Buffalo Naval Park\, United States
END:VEVENT
BEGIN:VEVENT
DTSTART;TZID=UTC:20170924T100000
DTEND;TZID=UTC:20170924T104500
DTSTAMP:20260424T004224
CREATED:20170119T145455Z
LAST-MODIFIED:20170919T203120Z
UID:5711-1506247200-1506249900@buffalonavalpark.org
SUMMARY:Gold Star Mothers Marker Dedication
DESCRIPTION:Ceremony will be held outside at the Gold Star Mothers Marker (weather permitting; otherwise\, it will be held inside the Hangar Bldg.)
URL:https://buffalonavalpark.org/event/gold-star-mothersfamily-recognition/
LOCATION:Buffalo Naval Park\, United States
CATEGORIES:Buffalo Naval Park
END:VEVENT
END:VCALENDAR